BEGIN:VCALENDAR
VERSION:2.0
PRODID:-//Bullitt County Public Library - ECPv5.16.4//NONSGML v1.0//EN
CALSCALE:GREGORIAN
METHOD:PUBLISH
X-WR-CALNAME:Bullitt County Public Library
X-ORIGINAL-URL:https://bcplib.org
X-WR-CALDESC:Events for Bullitt County Public Library
BEGIN:VTIMEZONE
TZID:America/Kentucky/Louisville
BEGIN:DAYLIGHT
TZOFFSETFROM:-0500
TZOFFSETTO:-0400
TZNAME:EDT
DTSTART:20200308T070000
END:DAYLIGHT
BEGIN:STANDARD
TZOFFSETFROM:-0400
TZOFFSETTO:-0500
TZNAME:EST
DTSTART:20201101T060000
END:STANDARD
END:VTIMEZONE
BEGIN:VEVENT
DTSTART;TZID=America/Kentucky/Louisville:20200127T180000
DTEND;TZID=America/Kentucky/Louisville:20200127T190000
DTSTAMP:20260422T050522
CREATED:20191118T180254Z
LAST-MODIFIED:20200116T194659Z
UID:69501-1580148000-1580151600@bcplib.org
SUMMARY:Pigeon's Adventures
DESCRIPTION:Whatever you do\, don’t let the pigeon drive the bus… \nJoin us for a playful\, fun night all about Pigeon\, the beloved character created by Mo Willems! Enjoy fun stories about Pigeon’s silly antics and adventures\, then get really wacky as you play Pigeon games like Duck Duck Pigeon or Pigeon Says. Just remember to resist letting Pigeon drive the bus no matter how much he begs\, bargains\, or tries to trick you! Plus\, use your creativity to decorate and paint your own rubber ducky\, enjoy a hot-dog-inspired gummy treat just like Pigeon’s\, and earn a special certificate if you can keep Pigeon from driving that bus. \nFor children of all ages.\nRegistration is required for a select number of reserved seats. Additional seating will be available on a first-come\, first-served basis. Questions? E-mail jillian@bcplib.org.
URL:https://bcplib.org/event/pigeons-adventures-rm/
LOCATION:Ridgway Memorial Library\, 127 N. Walnut Street\, Shepherdsville\, KY\, 40165\, United States
CATEGORIES:Kids
ORGANIZER;CN="Jillian":MAILTO:jillian@bcplib.org
GEO:38.001133520394;-85.706045160467
X-APPLE-STRUCTURED-LOCATION;VALUE=URI;X-ADDRESS=Ridgway Memorial Library 127 N. Walnut Street Shepherdsville KY 40165 United States;X-APPLE-RADIUS=500;X-TITLE=127 N. Walnut Street:geo:-85.706045160467,38.001133520394
END:VEVENT
END:VCALENDAR