BEGIN:VCALENDAR
VERSION:2.0
PRODID:-//Bullitt County Public Library - ECPv5.16.4//NONSGML v1.0//EN
CALSCALE:GREGORIAN
METHOD:PUBLISH
X-WR-CALNAME:Bullitt County Public Library
X-ORIGINAL-URL:https://bcplib.org
X-WR-CALDESC:Events for Bullitt County Public Library
BEGIN:VTIMEZONE
TZID:America/Kentucky/Louisville
BEGIN:DAYLIGHT
TZOFFSETFROM:-0500
TZOFFSETTO:-0400
TZNAME:EDT
DTSTART:20210314T070000
END:DAYLIGHT
BEGIN:STANDARD
TZOFFSETFROM:-0400
TZOFFSETTO:-0500
TZNAME:EST
DTSTART:20211107T060000
END:STANDARD
END:VTIMEZONE
BEGIN:VEVENT
DTSTART;TZID=America/Kentucky/Louisville:20210605T100000
DTEND;TZID=America/Kentucky/Louisville:20210605T235900
DTSTAMP:20260423T090732
CREATED:20210523T181627Z
LAST-MODIFIED:20210523T181627Z
UID:93647-1622887200-1622937540@bcplib.org
SUMMARY:Virtual Photography Club & Scavenger Hunt
DESCRIPTION:Ready\, find\, click!\n \nGrab your camera or smartphone and get ready to explore Bullitt County. Each Saturday morning on our Faceboook page\, we will post a new photo taken somewhere in the county.  Then\, use your sleuthing skills and Bullitt County IQ to track down the location. When you find it\, use your photography skills to take a copycat photo of the mystery site. \nPlease share your photos in the comments\, and feel free to share any tips or clues you want with other BC explorers! We’d also love to hear about your favorite places to visit in Bullitt County. \nHappy exploring! \n\nFor all ages.\nQuestions? E-mail angel@bcplib.org.
URL:https://bcplib.org/event/photo-hunt/2021-06-05/
LOCATION:BCPL on Facebook
CATEGORIES:Adults,Teens,Tweens,Kids,Family
ORGANIZER;CN="Angel":MAILTO:angel@bcplib.org
END:VEVENT
END:VCALENDAR