BEGIN:VCALENDAR
VERSION:2.0
PRODID:-//Bullitt County Public Library - ECPv5.16.4//NONSGML v1.0//EN
CALSCALE:GREGORIAN
METHOD:PUBLISH
X-WR-CALNAME:Bullitt County Public Library
X-ORIGINAL-URL:https://bcplib.org
X-WR-CALDESC:Events for Bullitt County Public Library
BEGIN:VTIMEZONE
TZID:America/Kentucky/Louisville
BEGIN:DAYLIGHT
TZOFFSETFROM:-0500
TZOFFSETTO:-0400
TZNAME:EDT
DTSTART:20220313T070000
END:DAYLIGHT
BEGIN:STANDARD
TZOFFSETFROM:-0400
TZOFFSETTO:-0500
TZNAME:EST
DTSTART:20221106T060000
END:STANDARD
END:VTIMEZONE
BEGIN:VEVENT
DTSTART;TZID=America/Kentucky/Louisville:20220210T140000
DTEND;TZID=America/Kentucky/Louisville:20220210T150000
DTSTAMP:20260422T022629
CREATED:20220110T185031Z
LAST-MODIFIED:20220110T185031Z
UID:99290-1644501600-1644505200@bcplib.org
SUMMARY:Pet Adoption Day
DESCRIPTION:Plenty of stuffed animal friends are just waiting to come home with you… \nEnter BCPL’s very own animal rescue center where you can adopt a brand-new stuffed puppy or kitty! After you have chosen your new best friend\, make it official by naming them on your adoption certificate. Plus\, create a fun new name tag for your cuddly buddy and enjoy some delicious Scooby snacks together. Don’t forget to strike a pose with your new pet! \nPsst… Pets will be chosen on a first-come\, first-served basis. \nFor ages 0–5. Just drop in!\nSeating and materials will be available on a first-come\, first-served basis. Questions? Call Ms. Angel at 543-7675 ext. 2556 or e-mail angel@bcplib.org.
URL:https://bcplib.org/event/pet-adoption-day-2022/
LOCATION:Mt. Washington Branch\, 214 N. Bardstown Road\, Mt. Washington\, KY\, 40047\, United States
CATEGORIES:Kids
ORGANIZER;CN="Angel":MAILTO:angel@bcplib.org
GEO:38.0492119;-85.5430434
X-APPLE-STRUCTURED-LOCATION;VALUE=URI;X-ADDRESS=Mt. Washington Branch 214 N. Bardstown Road Mt. Washington KY 40047 United States;X-APPLE-RADIUS=500;X-TITLE=214 N. Bardstown Road:geo:-85.5430434,38.0492119
END:VEVENT
END:VCALENDAR