BEGIN:VCALENDAR
VERSION:2.0
PRODID:-//Bullitt County Public Library - ECPv5.16.4//NONSGML v1.0//EN
CALSCALE:GREGORIAN
METHOD:PUBLISH
X-WR-CALNAME:Bullitt County Public Library
X-ORIGINAL-URL:https://bcplib.org
X-WR-CALDESC:Events for Bullitt County Public Library
BEGIN:VTIMEZONE
TZID:America/Kentucky/Louisville
BEGIN:DAYLIGHT
TZOFFSETFROM:-0500
TZOFFSETTO:-0400
TZNAME:EDT
DTSTART:20220313T070000
END:DAYLIGHT
BEGIN:STANDARD
TZOFFSETFROM:-0400
TZOFFSETTO:-0500
TZNAME:EST
DTSTART:20221106T060000
END:STANDARD
END:VTIMEZONE
BEGIN:VEVENT
DTSTART;TZID=America/Kentucky/Louisville:20220801T180000
DTEND;TZID=America/Kentucky/Louisville:20220801T190000
DTSTAMP:20260421T173015
CREATED:20220714T203930Z
LAST-MODIFIED:20220715T153124Z
UID:103171-1659376800-1659380400@bcplib.org
SUMMARY:DIY Pencil Pouch
DESCRIPTION:Customize this school year… \nCreate your own pencil pouch to hold all your school supplies! Using fabric markers\, you will be able to give your pencil pouch a one-of-a-kind makeover. Design your own world\, draw a favorite character\, or write a special quote to carry around with you this school year. \nFor ages 5 and up. Just drop in!\nSeating and supplies will be available on a first-come\, first-served basis. Questions? Call Ms. Angel at 543-7675 ext. 2556 or e-mail angel@bcplib.org.
URL:https://bcplib.org/event/pencil-pouch-mw/
LOCATION:Mt. Washington Branch\, 214 N. Bardstown Road\, Mt. Washington\, KY\, 40047\, United States
CATEGORIES:Teens,Tweens,Kids
ORGANIZER;CN="Angel":MAILTO:angel@bcplib.org
GEO:38.0492119;-85.5430434
X-APPLE-STRUCTURED-LOCATION;VALUE=URI;X-ADDRESS=Mt. Washington Branch 214 N. Bardstown Road Mt. Washington KY 40047 United States;X-APPLE-RADIUS=500;X-TITLE=214 N. Bardstown Road:geo:-85.5430434,38.0492119
END:VEVENT
END:VCALENDAR