BEGIN:VCALENDAR
VERSION:2.0
PRODID:-//Bullitt County Public Library - ECPv5.16.4//NONSGML v1.0//EN
CALSCALE:GREGORIAN
METHOD:PUBLISH
X-WR-CALNAME:Bullitt County Public Library
X-ORIGINAL-URL:https://bcplib.org
X-WR-CALDESC:Events for Bullitt County Public Library
BEGIN:VTIMEZONE
TZID:America/Kentucky/Louisville
BEGIN:DAYLIGHT
TZOFFSETFROM:-0500
TZOFFSETTO:-0400
TZNAME:EDT
DTSTART:20210314T070000
END:DAYLIGHT
BEGIN:STANDARD
TZOFFSETFROM:-0400
TZOFFSETTO:-0500
TZNAME:EST
DTSTART:20211107T060000
END:STANDARD
END:VTIMEZONE
BEGIN:VEVENT
DTSTART;TZID=America/Kentucky/Louisville:20211213T173000
DTEND;TZID=America/Kentucky/Louisville:20211213T183000
DTSTAMP:20260422T161001
CREATED:20211116T175842Z
LAST-MODIFIED:20211210T184702Z
UID:98208-1639416600-1639420200@bcplib.org
SUMMARY:Pawsibilities
DESCRIPTION:Get ready for a doggone good day… \nJoin us to meet-and-greet with two adorable therapy dogs and chat with their amazing handlers from Pawsibilites. \n \nABOUT OUR FURRY FRIEND VISITORS \nHazel is an 8-month-old Bouvier des Flandres and Aussiedoodle mix. She is a trained therapy dog\, certified and insured through Pawsibilities Unleashed. Hazel has earned her AKC Puppy Star\, Canine Good Citizen (CGC)\, and Advanced Community Canine Good Citizen (CGCA) titles. She has been working as a therapy dog for 3 months and visiting the residents of a senior living facility. \nZiggy is a 9-month-old black and silver Aussiedoodle. He is insured through Pawsibilities Unleashed and is working on his therapy dog certification. He is a wonderful\, happy little guy and loves meeting new people and getting treats! \nFor children of all ages. Just drop in!\nSeating will be available on a first-come\, first-served basis. Questions? E-mail mike@bclib.org. \n  \n\nUPDATE: Unfortunately\, Ziggy will not be able to attend this event. However\, Emmie\, a Golden Retriever\, will be joining Hazel for this meet-and-greet.
URL:https://bcplib.org/event/pawsibilities/
LOCATION:Hillview Branch\, 155 Terry Boulevard\, Hillview\, KY\, 40229\, United States
CATEGORIES:Tweens,Kids
ORGANIZER;CN="Mike":MAILTO:mike@bcplib.org
GEO:38.077247;-85.688966
X-APPLE-STRUCTURED-LOCATION;VALUE=URI;X-ADDRESS=Hillview Branch 155 Terry Boulevard Hillview KY 40229 United States;X-APPLE-RADIUS=500;X-TITLE=155 Terry Boulevard:geo:-85.688966,38.077247
END:VEVENT
END:VCALENDAR