BEGIN:VCALENDAR
VERSION:2.0
PRODID:-//Bullitt County Public Library - ECPv5.16.4//NONSGML v1.0//EN
CALSCALE:GREGORIAN
METHOD:PUBLISH
X-WR-CALNAME:Bullitt County Public Library
X-ORIGINAL-URL:https://bcplib.org
X-WR-CALDESC:Events for Bullitt County Public Library
BEGIN:VTIMEZONE
TZID:America/Kentucky/Louisville
BEGIN:DAYLIGHT
TZOFFSETFROM:-0500
TZOFFSETTO:-0400
TZNAME:EDT
DTSTART:20220313T070000
END:DAYLIGHT
BEGIN:STANDARD
TZOFFSETFROM:-0400
TZOFFSETTO:-0500
TZNAME:EST
DTSTART:20221106T060000
END:STANDARD
END:VTIMEZONE
BEGIN:VEVENT
DTSTART;TZID=America/Kentucky/Louisville:20220716T140000
DTEND;TZID=America/Kentucky/Louisville:20220716T160000
DTSTAMP:20260421T154715
CREATED:20220516T191357Z
LAST-MODIFIED:20220709T212632Z
UID:102221-1657980000-1657987200@bcplib.org
SUMMARY:Partner Dance with Steve & Donna: The Rumba
DESCRIPTION:Put your dancing shoes on… \nGrab your partner and join Steve and Donna for an afternoon all about letting loose and trying a few new dance steps. Explore a variety of partnered dance styles through demonstrations and beginner instruction in Waltz\, Rumba\, and Salsa. Who knows\, dancing may become your new favorite hobby! \nSUMMER DANCE CARD\nOur dance card is complete\, but the dance order may be subject to change. \n\nJune 18th – The Waltz\nJuly 16th – The Rumba\nAugust 20th – The Salsa\n\n\nPsst… Wear your slick-bottom shoes! Since the meeting room is carpeted\, nonslip shoes could interfere with dancing. \nABOUT THE PRESENTERS | WEBSITE\nDonna Caudill is an internationally known choreographer and instructor with 25+ years dance experience.  She is the 1st US competitor to achieve Crown Superstar status in Line Dance\, is a certified journeyman-level dance judge\, and a five-time World Champion with the United Country Western Dance Counci (UCWDC). Steve Davis is a dance instructor and coach with the UCWDC.  His international and national dance competition includes Dance Choreography and Pro-Am Competition with his students. Steve has a Masters Degree in Counseling and has been practicing for over 25 years. \nFor ages 16 and up.\nRegistration is required for a select number of reserved spots. Additional space will be available on a first-come\, first-served basis. Questions? E-mail gayle@bcplib.org.
URL:https://bcplib.org/event/partner-rumba/
LOCATION:Mt. Washington Branch\, 214 N. Bardstown Road\, Mt. Washington\, KY\, 40047\, United States
CATEGORIES:Adults,Teens
ORGANIZER;CN="Gayle":MAILTO:gayle@bcplib.org
GEO:38.0492119;-85.5430434
X-APPLE-STRUCTURED-LOCATION;VALUE=URI;X-ADDRESS=Mt. Washington Branch 214 N. Bardstown Road Mt. Washington KY 40047 United States;X-APPLE-RADIUS=500;X-TITLE=214 N. Bardstown Road:geo:-85.5430434,38.0492119
END:VEVENT
END:VCALENDAR