BEGIN:VCALENDAR
VERSION:2.0
PRODID:-//Bullitt County Public Library - ECPv5.16.4//NONSGML v1.0//EN
CALSCALE:GREGORIAN
METHOD:PUBLISH
X-WR-CALNAME:Bullitt County Public Library
X-ORIGINAL-URL:https://bcplib.org
X-WR-CALDESC:Events for Bullitt County Public Library
BEGIN:VTIMEZONE
TZID:America/Kentucky/Louisville
BEGIN:DAYLIGHT
TZOFFSETFROM:-0500
TZOFFSETTO:-0400
TZNAME:EDT
DTSTART:20200308T070000
END:DAYLIGHT
BEGIN:STANDARD
TZOFFSETFROM:-0400
TZOFFSETTO:-0500
TZNAME:EST
DTSTART:20201101T060000
END:STANDARD
END:VTIMEZONE
BEGIN:VEVENT
DTSTART;TZID=America/Kentucky/Louisville:20200311T140000
DTEND;TZID=America/Kentucky/Louisville:20200311T160000
DTSTAMP:20260423T075318
CREATED:20200204T185223Z
LAST-MODIFIED:20200204T185223Z
UID:73124-1583935200-1583942400@bcplib.org
SUMMARY:Paper Clip Earrings
DESCRIPTION:Create beautiful jewelry using skills you learned in kindergarten! \nExplore the art of jewelry making using simple techniques that anyone can do. Cut\, glue\, and decorate your way to a unique set of earrings that are sure to have everyone talking! \nFor ages 13 and up.\nRegistration is required for a select number of reserved seats. Additional seating will be available on a first-come\, first-served basis. Questions? E-mail gayle@bcplib.org. \n\n\n 
URL:https://bcplib.org/event/paper-clip-earrings/2020-03-11/
LOCATION:Lebanon Junction Branch\, 11382 S. Preston Highway\, Lebanon Junction\, KY\, 40150\, United States
CATEGORIES:Adults,Teens
ORGANIZER;CN="Gayle":MAILTO:gayle@bcplib.org
GEO:37.8417678;-85.7287508
X-APPLE-STRUCTURED-LOCATION;VALUE=URI;X-ADDRESS=Lebanon Junction Branch 11382 S. Preston Highway Lebanon Junction KY 40150 United States;X-APPLE-RADIUS=500;X-TITLE=11382 S. Preston Highway:geo:-85.7287508,37.8417678
END:VEVENT
END:VCALENDAR