BEGIN:VCALENDAR
VERSION:2.0
PRODID:-//Bullitt County Public Library - ECPv5.16.4//NONSGML v1.0//EN
CALSCALE:GREGORIAN
METHOD:PUBLISH
X-WR-CALNAME:Bullitt County Public Library
X-ORIGINAL-URL:https://bcplib.org
X-WR-CALDESC:Events for Bullitt County Public Library
BEGIN:VTIMEZONE
TZID:America/Kentucky/Louisville
BEGIN:DAYLIGHT
TZOFFSETFROM:-0500
TZOFFSETTO:-0400
TZNAME:EDT
DTSTART:20180311T070000
END:DAYLIGHT
BEGIN:STANDARD
TZOFFSETFROM:-0400
TZOFFSETTO:-0500
TZNAME:EST
DTSTART:20181104T060000
END:STANDARD
END:VTIMEZONE
BEGIN:VEVENT
DTSTART;TZID=America/Kentucky/Louisville:20181108T170000
DTEND;TZID=America/Kentucky/Louisville:20181108T193000
DTSTAMP:20260423T011932
CREATED:20181022T225402Z
LAST-MODIFIED:20181023T205154Z
UID:40173-1541696400-1541705400@bcplib.org
SUMMARY:Pajama Movie Night with the Teen Planning Committee
DESCRIPTION:Rating: PG-13Runtime: 1 hr. 23 min.\nGet comfy in your jammies and head to the library for a special showing of The Avengers (rated PG-13)! Free drinks and snacks will be provided. This event is organized by the Teen Planning Committee. \nAges 13 and up. Just drop in!\nSeating will be available on a first-come\, first-served basis. Questions? E-mail steven@bcplib.org. \n\nAbout the Teen Planning Committee\n\nJoin forces with other cool teens and our awesome Teen Services team to help plan big events\, suggest new teen programs\, and recommend books and movies for our collection. Plus\, you can learn about library careers and even earn volunteer hours for school! \nFor middle & high school ages.\nJust drop in on the 2nd Thursday of the month! Please note\, occasionally special events developed by the Teen Planning Committee will take place during regular meet times. Seating for regular meetings and special events will be available on a first-come\, first-served basis. Questions? E-mail steven@bcplib.org.
URL:https://bcplib.org/event/pajama-movie-rm/
LOCATION:Ridgway Memorial Library\, 127 N. Walnut Street\, Shepherdsville\, KY\, 40165\, United States
CATEGORIES:Teens
ORGANIZER;CN="Steven":MAILTO:steven@bcplib.org
GEO:38.001133520394;-85.706045160467
X-APPLE-STRUCTURED-LOCATION;VALUE=URI;X-ADDRESS=Ridgway Memorial Library 127 N. Walnut Street Shepherdsville KY 40165 United States;X-APPLE-RADIUS=500;X-TITLE=127 N. Walnut Street:geo:-85.706045160467,38.001133520394
END:VEVENT
END:VCALENDAR