BEGIN:VCALENDAR
VERSION:2.0
PRODID:-//Bullitt County Public Library - ECPv5.16.4//NONSGML v1.0//EN
CALSCALE:GREGORIAN
METHOD:PUBLISH
X-WR-CALNAME:Bullitt County Public Library
X-ORIGINAL-URL:https://bcplib.org
X-WR-CALDESC:Events for Bullitt County Public Library
BEGIN:VTIMEZONE
TZID:America/Kentucky/Louisville
BEGIN:DAYLIGHT
TZOFFSETFROM:-0500
TZOFFSETTO:-0400
TZNAME:EDT
DTSTART:20180311T070000
END:DAYLIGHT
BEGIN:STANDARD
TZOFFSETFROM:-0400
TZOFFSETTO:-0500
TZNAME:EST
DTSTART:20181104T060000
END:STANDARD
END:VTIMEZONE
BEGIN:VEVENT
DTSTART;TZID=America/Kentucky/Louisville:20180221T170000
DTEND;TZID=America/Kentucky/Louisville:20180221T180000
DTSTAMP:20260423T000641
CREATED:20170327T164005Z
LAST-MODIFIED:20180103T164021Z
UID:4418-1519232400-1519236000@bcplib.org
SUMMARY:Page Turners
DESCRIPTION:Join BCPL’s monthly book club for teens and tweens to hang out with friends\, discuss popular books\, and discover fantastic recent releases! Page Turners meets at Ridgway Memorial on the third Wednesday of the month from 5:00–6:00 PM and is now open to both middle and high school ages. A limited number of copies will be reserved for this program and made available to registered BCPL cardholders. \nJoin us this month to discuss The Maze Runner by James Dashner. Sixteen-year-old Thomas awakens with no memory of his past to find himself in a compound at the center of a deadly\, ever-changing maze with no apparent exit and dangerous monsters waiting outside the walls. When a strangely familiar girl shows up seeking him\, Thomas comes to realize the secret to escape may lie in his missing memories. \nFree snacks provided.This will be an interactive discussion featuring game challenges on Kahoot!; participants are encouraged to bring their personal devices\, but a limited supply of Library devices will also be made available for use. \nA parent or guardian must remain on library premises with youth ages 15 and under.
URL:https://bcplib.org/event/page-turners/
LOCATION:Ridgway Memorial Library\, 127 N. Walnut Street\, Shepherdsville\, KY\, 40165\, United States
CATEGORIES:Teens,Tweens
ORGANIZER;CN="Mike":MAILTO:mike@bcplib.org
GEO:38.001133520394;-85.706045160467
X-APPLE-STRUCTURED-LOCATION;VALUE=URI;X-ADDRESS=Ridgway Memorial Library 127 N. Walnut Street Shepherdsville KY 40165 United States;X-APPLE-RADIUS=500;X-TITLE=127 N. Walnut Street:geo:-85.706045160467,38.001133520394
END:VEVENT
END:VCALENDAR