BEGIN:VCALENDAR
VERSION:2.0
PRODID:-//Bullitt County Public Library - ECPv5.16.4//NONSGML v1.0//EN
CALSCALE:GREGORIAN
METHOD:PUBLISH
X-WR-CALNAME:Bullitt County Public Library
X-ORIGINAL-URL:https://bcplib.org
X-WR-CALDESC:Events for Bullitt County Public Library
BEGIN:VTIMEZONE
TZID:America/Kentucky/Louisville
BEGIN:DAYLIGHT
TZOFFSETFROM:-0500
TZOFFSETTO:-0400
TZNAME:EDT
DTSTART:20210314T070000
END:DAYLIGHT
BEGIN:STANDARD
TZOFFSETFROM:-0400
TZOFFSETTO:-0500
TZNAME:EST
DTSTART:20211107T060000
END:STANDARD
END:VTIMEZONE
BEGIN:VEVENT
DTSTART;TZID=America/Kentucky/Louisville:20210607T180000
DTEND;TZID=America/Kentucky/Louisville:20210607T183000
DTSTAMP:20260423T091411
CREATED:20210520T224937Z
LAST-MODIFIED:20210521T204525Z
UID:93508-1623088800-1623090600@bcplib.org
SUMMARY:Outdoor Adventures with Ms. Angel & Ms. Brandy
DESCRIPTION:Adventure is out there… \nFollow Ms. Angel and Ms. Brandy as they whip up some tasty summer drinks\, explore local parks\, go fishing and bird-watching\, hunt for awesome yard-sale finds\, have a cozy S’mores night\, and more. Plus\, get inspired to enjoy your community and find your own outdoor adventures! \nFor all ages.\nEnjoy from the comfort of home via BCPL’s main Facebook page. Can’t make it at 6:00 PM? That’s fine\, too. Videos will remain online to view\, share\, and enjoy. \nQuestions? E-mail brandy@bcplib.org.
URL:https://bcplib.org/event/outdoor-adventures-with-ms-angel-ms-brandy/2021-06-07/
LOCATION:BCPL on Facebook
CATEGORIES:Adults,Teens,Tweens,Kids,Family
END:VEVENT
END:VCALENDAR