BEGIN:VCALENDAR
VERSION:2.0
PRODID:-//Bullitt County Public Library - ECPv5.16.4//NONSGML v1.0//EN
CALSCALE:GREGORIAN
METHOD:PUBLISH
X-WR-CALNAME:Bullitt County Public Library
X-ORIGINAL-URL:https://bcplib.org
X-WR-CALDESC:Events for Bullitt County Public Library
BEGIN:VTIMEZONE
TZID:America/Kentucky/Louisville
BEGIN:DAYLIGHT
TZOFFSETFROM:-0500
TZOFFSETTO:-0400
TZNAME:EDT
DTSTART:20210314T070000
END:DAYLIGHT
BEGIN:STANDARD
TZOFFSETFROM:-0400
TZOFFSETTO:-0500
TZNAME:EST
DTSTART:20211107T060000
END:STANDARD
END:VTIMEZONE
BEGIN:VEVENT
DTSTART;TZID=America/Kentucky/Louisville:20210724T110000
DTEND;TZID=America/Kentucky/Louisville:20210724T120000
DTSTAMP:20260423T085408
CREATED:20210611T164542Z
LAST-MODIFIED:20210622T220914Z
UID:93989-1627124400-1627128000@bcplib.org
SUMMARY:Once Upon a Native Time
DESCRIPTION:Once upon a time there was a Native tale… \nJoin Walks with Cougar and Autumn Leaf to explore American Indian culture. With the help of a few animal puppet friends\, enjoy Native American stories\, listen and dance to rhythmic music\, and play with American Indian children’s toys. Plus\, get involved in even more fun with interactive games and prizes. Light refreshments and take-home goodies will be available while supplies last. \nPsst…Check out their partner show on June 26th\, Once Upon a Dragon Time! \nABOUT THE PRESENTERS  WEBSITE\nBob Barker is a retired school teacher\, a classical musician\, an ordained minister\, and author of four children’s books. Once Upon a Native Time and Once Upon a Dragon Time were created out of his desire to entertain and educate. Sonya Goff is a fourth-generation seamstress and a third-generation doll maker. She has a BA degree in theater arts and enjoys using her talents to entertain while doing what she loves.\n \nFor children of all ages.\nRegistration is required for a select number of reserved seats. Additional seating will be available on a first-come\, first-served basis. Questions? E-mail Ms. Kirsten at nilassistant@bcplib.org.
URL:https://bcplib.org/event/once-upon-a-native-time/2021-07-24/
LOCATION:Nichols Branch\, 10729 Highway 44 West\, West Point\, KY\, 40177\, United States
CATEGORIES:Tweens,Kids,Family
GEO:38.0142396;-85.8852196
X-APPLE-STRUCTURED-LOCATION;VALUE=URI;X-ADDRESS=Nichols Branch 10729 Highway 44 West West Point KY 40177 United States;X-APPLE-RADIUS=500;X-TITLE=10729 Highway 44 West:geo:-85.8852196,38.0142396
END:VEVENT
END:VCALENDAR