BEGIN:VCALENDAR
VERSION:2.0
PRODID:-//Bullitt County Public Library - ECPv5.16.4//NONSGML v1.0//EN
CALSCALE:GREGORIAN
METHOD:PUBLISH
X-WR-CALNAME:Bullitt County Public Library
X-ORIGINAL-URL:https://bcplib.org
X-WR-CALDESC:Events for Bullitt County Public Library
BEGIN:VTIMEZONE
TZID:America/Kentucky/Louisville
BEGIN:DAYLIGHT
TZOFFSETFROM:-0500
TZOFFSETTO:-0400
TZNAME:EDT
DTSTART:20210314T070000
END:DAYLIGHT
BEGIN:STANDARD
TZOFFSETFROM:-0400
TZOFFSETTO:-0500
TZNAME:EST
DTSTART:20211107T060000
END:STANDARD
END:VTIMEZONE
BEGIN:VEVENT
DTSTART;TZID=America/Kentucky/Louisville:20210626T110000
DTEND;TZID=America/Kentucky/Louisville:20210626T120000
DTSTAMP:20260423T071107
CREATED:20210611T164552Z
LAST-MODIFIED:20210622T221027Z
UID:93981-1624705200-1624708800@bcplib.org
SUMMARY:Once Upon a Dragon Time
DESCRIPTION:Once upon a time there lived a majestic dragon… \nJoin Lord Robert and Lady Sonya to enjoy an amazing dragon-themed show. The young—and young at heart—will delight in the puppet theater\, storytelling\, and silly magic tricks. Plus\, get involved in the fun with interactive games and prizes. Light refreshments and take-home goodies will be available while supplies last. \nPsst… Check out their partner show on July 24th\, Once Upon a Native Time! \nABOUT THE PRESENTERS  WEBSITE | FACEBOOK\nBob Barker is a retired school teacher\, a classical musician\, an ordained minister\, and author of four children’s books. Once Upon a Native Time and Once Upon a Dragon Time were created out of his desire to entertain and educate.\nSonya Goff is a fourth generation seamstress and a third generation doll maker. She has a BA degree in theater arts and enjoys using her talents to entertain while doing what she loves.\n \nFor children of all ages.\nRegistration is required for a select number of reserved seats. Additional seating will be available on a first-come\, first-served basis. Questions? E-mail Ms. Kirsten at nilassistant@bcplib.org.
URL:https://bcplib.org/event/once-upon-a-dragon-time/2021-06-26/
LOCATION:Nichols Branch\, 10729 Highway 44 West\, West Point\, KY\, 40177\, United States
CATEGORIES:Tweens,Kids,Family
GEO:38.0142396;-85.8852196
X-APPLE-STRUCTURED-LOCATION;VALUE=URI;X-ADDRESS=Nichols Branch 10729 Highway 44 West West Point KY 40177 United States;X-APPLE-RADIUS=500;X-TITLE=10729 Highway 44 West:geo:-85.8852196,38.0142396
END:VEVENT
END:VCALENDAR