BEGIN:VCALENDAR
VERSION:2.0
PRODID:-//Bullitt County Public Library - ECPv5.16.4//NONSGML v1.0//EN
CALSCALE:GREGORIAN
METHOD:PUBLISH
X-WR-CALNAME:Bullitt County Public Library
X-ORIGINAL-URL:https://bcplib.org
X-WR-CALDESC:Events for Bullitt County Public Library
BEGIN:VTIMEZONE
TZID:America/Kentucky/Louisville
BEGIN:DAYLIGHT
TZOFFSETFROM:-0500
TZOFFSETTO:-0400
TZNAME:EDT
DTSTART:20190310T070000
END:DAYLIGHT
BEGIN:STANDARD
TZOFFSETFROM:-0400
TZOFFSETTO:-0500
TZNAME:EST
DTSTART:20191103T060000
END:STANDARD
END:VTIMEZONE
BEGIN:VEVENT
DTSTART;TZID=America/Kentucky/Louisville:20191017T160000
DTEND;TZID=America/Kentucky/Louisville:20191017T180000
DTSTAMP:20260421T061219
CREATED:20190911T172653Z
LAST-MODIFIED:20190911T172653Z
UID:56039-1571328000-1571335200@bcplib.org
SUMMARY:Off the Shelf Teen Book Club
DESCRIPTION:Join us on the 3rd Thursday of the month to hang out\, eat snacks\, and talk about books! \nOur September selection is the Goosebumps series by R.L. Stine: \nDESCRIPTION: In honor of Halloween\, we’re all about quick\, spooky tales that will give you goosebumps! Choose your own chilling adventure by reading and discussing the Goosebumps title of your choice. \nAges 12–18. Just drop in!\nSeating will be available on a first-come\, first-served basis. Questions? E-mail Alexis at alexis@bcplib.org.
URL:https://bcplib.org/event/off-the-shelf-teen-book-club-oct/
LOCATION:Mt. Washington Branch\, 214 N. Bardstown Road\, Mt. Washington\, KY\, 40047\, United States
CATEGORIES:Teens,Tweens
ORGANIZER;CN="Alexis":MAILTO:alexis@bcplib.org
GEO:38.0492119;-85.5430434
X-APPLE-STRUCTURED-LOCATION;VALUE=URI;X-ADDRESS=Mt. Washington Branch 214 N. Bardstown Road Mt. Washington KY 40047 United States;X-APPLE-RADIUS=500;X-TITLE=214 N. Bardstown Road:geo:-85.5430434,38.0492119
END:VEVENT
END:VCALENDAR