BEGIN:VCALENDAR
VERSION:2.0
PRODID:-//Bullitt County Public Library - ECPv5.16.4//NONSGML v1.0//EN
CALSCALE:GREGORIAN
METHOD:PUBLISH
X-WR-CALNAME:Bullitt County Public Library
X-ORIGINAL-URL:https://bcplib.org
X-WR-CALDESC:Events for Bullitt County Public Library
BEGIN:VTIMEZONE
TZID:America/Kentucky/Louisville
BEGIN:DAYLIGHT
TZOFFSETFROM:-0500
TZOFFSETTO:-0400
TZNAME:EDT
DTSTART:20190310T070000
END:DAYLIGHT
BEGIN:STANDARD
TZOFFSETFROM:-0400
TZOFFSETTO:-0500
TZNAME:EST
DTSTART:20191103T060000
END:STANDARD
END:VTIMEZONE
BEGIN:VEVENT
DTSTART;TZID=America/Kentucky/Louisville:20190122T160000
DTEND;TZID=America/Kentucky/Louisville:20190122T180000
DTSTAMP:20260421T171737
CREATED:20181210T192131Z
LAST-MODIFIED:20190114T172514Z
UID:42817-1548172800-1548180000@bcplib.org
SUMMARY:Off the Shelf Teen Book Club
DESCRIPTION:Join us on the 2nd & 4th Tuesdays of the month to hang out\, eat snacks\, and talk about books! \nOur January selection is The False Prince by Jennifer Nielsen : \nThe False Prince is book one in the dynamic and twisty Ascendance Trilogy. In the country of Carthya\, the royal family has been murdered and a devious noblemen has hatched a scheme to avoid civil war—by putting an imposter on the throne! He has selected four orphans to undergo a series of trials and will choose one of the boys to pose as the king’s long-lost son. \nPsst… We’ll be making some changes to Off the Shelf in February. Instead of a designated book selection\, we’ll be switching to a reader’s choice format. Simply read what you want each month and come ready to talk about it! No time to read one month? No worries! You can still join the discussion to discover some awesome recommendations from your fellow readers! \nAges 13–17. Registration is required for a select number of reserved seats.\nAdditional seating will be available on a first-come\, first-served basis. Questions? E-mail Raychel at raychel@bcplib.org.  \n  \n 
URL:https://bcplib.org/event/off-the-shelf-teen-book-club-2019-1-8-2019-01-22/2019-01-22/
LOCATION:Lebanon Junction Branch\, 11382 S. Preston Highway\, Lebanon Junction\, KY\, 40150\, United States
CATEGORIES:Teens
ORGANIZER;CN="Raychel":MAILTO:rbennet@bcplib.org
GEO:37.8417678;-85.7287508
X-APPLE-STRUCTURED-LOCATION;VALUE=URI;X-ADDRESS=Lebanon Junction Branch 11382 S. Preston Highway Lebanon Junction KY 40150 United States;X-APPLE-RADIUS=500;X-TITLE=11382 S. Preston Highway:geo:-85.7287508,37.8417678
END:VEVENT
END:VCALENDAR