BEGIN:VCALENDAR
VERSION:2.0
PRODID:-//Bullitt County Public Library - ECPv5.16.4//NONSGML v1.0//EN
CALSCALE:GREGORIAN
METHOD:PUBLISH
X-WR-CALNAME:Bullitt County Public Library
X-ORIGINAL-URL:https://bcplib.org
X-WR-CALDESC:Events for Bullitt County Public Library
BEGIN:VTIMEZONE
TZID:America/Kentucky/Louisville
BEGIN:DAYLIGHT
TZOFFSETFROM:-0500
TZOFFSETTO:-0400
TZNAME:EDT
DTSTART:20190310T070000
END:DAYLIGHT
BEGIN:STANDARD
TZOFFSETFROM:-0400
TZOFFSETTO:-0500
TZNAME:EST
DTSTART:20191103T060000
END:STANDARD
END:VTIMEZONE
BEGIN:VEVENT
DTSTART;TZID=America/Kentucky/Louisville:20190330T130000
DTEND;TZID=America/Kentucky/Louisville:20190330T140000
DTSTAMP:20260422T044432
CREATED:20190205T181015Z
LAST-MODIFIED:20190205T183147Z
UID:46403-1553950800-1553954400@bcplib.org
SUMMARY:NouLou&YOUth! Concert
DESCRIPTION:Music produces a kind of pleasure which human nature cannot do without.  –Confucious \nJoin us for an intimate\, family-friendly musical experience featuring the NouLou Chamber Players and Louisville Youth Orchestra! Listen to the strings\, woodwinds\, and brass as students and professionals alike play together in beautiful harmony. \n\nAbout NouLou&YOUth! \nIn 2018\, Louisville Youth Orchestra (LYO) applied for an Imagine Greater Louisville 2020 project grant\, with help from Bullitt County Public Library and other service\, cultural\, and educational institutions. LYO’s grant for NouLou&YOUth! was announced by Fund for the Arts on July 23rd of that year. \nNouLou&YOUth! creates a partnership with NouLou Chamber Players to offer “free\, quality educational chamber music programs to Bullitt\, Henry\, Oldham\, Shelby\, Spencer\, and Trimble counties\, providing professional educational support for LYO members and stoking engagement and passion in the community.” – (Source) \nLearn more about these organizations:\n•Louisville Youth Orchestra\n• NouLou Chamber Players \n\nFor all ages. Just drop in!\nSeating will be available on a first-come\, first served basis. Questions? E-mail Patrick at patrick@bcplib.org.
URL:https://bcplib.org/event/noulouyouth-concert/
LOCATION:Mt. Washington Branch\, 214 N. Bardstown Road\, Mt. Washington\, KY\, 40047\, United States
CATEGORIES:Adults,Teens,Tweens,Kids,Family
ORGANIZER;CN="Patrick":MAILTO:patrick@bcplib.org
GEO:38.0492119;-85.5430434
X-APPLE-STRUCTURED-LOCATION;VALUE=URI;X-ADDRESS=Mt. Washington Branch 214 N. Bardstown Road Mt. Washington KY 40047 United States;X-APPLE-RADIUS=500;X-TITLE=214 N. Bardstown Road:geo:-85.5430434,38.0492119
END:VEVENT
END:VCALENDAR