BEGIN:VCALENDAR
VERSION:2.0
PRODID:-//Bullitt County Public Library - ECPv5.16.4//NONSGML v1.0//EN
CALSCALE:GREGORIAN
METHOD:PUBLISH
X-WR-CALNAME:Bullitt County Public Library
X-ORIGINAL-URL:https://bcplib.org
X-WR-CALDESC:Events for Bullitt County Public Library
BEGIN:VTIMEZONE
TZID:America/Kentucky/Louisville
BEGIN:DAYLIGHT
TZOFFSETFROM:-0500
TZOFFSETTO:-0400
TZNAME:EDT
DTSTART:20170312T070000
END:DAYLIGHT
BEGIN:STANDARD
TZOFFSETFROM:-0400
TZOFFSETTO:-0500
TZNAME:EST
DTSTART:20171105T060000
END:STANDARD
END:VTIMEZONE
BEGIN:VEVENT
DTSTART;TZID=America/Kentucky/Louisville:20171228T110000
DTEND;TZID=America/Kentucky/Louisville:20171228T120000
DTSTAMP:20260423T091849
CREATED:20171102T214334Z
LAST-MODIFIED:20171227T020837Z
UID:18965-1514458800-1514462400@bcplib.org
SUMMARY:Noon Year's Eve Party
DESCRIPTION:Drop in to ring in the New Year a little early! Join the fun as we make crafts\, write resolutions\, and have some light refreshments. The fun will reach its height at noon\, so make sure to be there by 11:50\, as we count down to noon with horns and bubbles. \nFor all ages. Just drop in; no registration required!\nQuestions? Call Angel  at 543-7675 ext. 2556 or e-mail angel@bcplib.org.
URL:https://bcplib.org/event/noon-years-eve-party-mw/
LOCATION:Mt. Washington Branch\, 214 N. Bardstown Road\, Mt. Washington\, KY\, 40047\, United States
CATEGORIES:Adults,Teens,Tweens,Kids,Family
ORGANIZER;CN="Angel":MAILTO:angel@bcplib.org
GEO:38.0492119;-85.5430434
X-APPLE-STRUCTURED-LOCATION;VALUE=URI;X-ADDRESS=Mt. Washington Branch 214 N. Bardstown Road Mt. Washington KY 40047 United States;X-APPLE-RADIUS=500;X-TITLE=214 N. Bardstown Road:geo:-85.5430434,38.0492119
END:VEVENT
END:VCALENDAR