BEGIN:VCALENDAR
VERSION:2.0
PRODID:-//Bullitt County Public Library - ECPv5.16.4//NONSGML v1.0//EN
CALSCALE:GREGORIAN
METHOD:PUBLISH
X-WR-CALNAME:Bullitt County Public Library
X-ORIGINAL-URL:https://bcplib.org
X-WR-CALDESC:Events for Bullitt County Public Library
BEGIN:VTIMEZONE
TZID:America/Kentucky/Louisville
BEGIN:DAYLIGHT
TZOFFSETFROM:-0500
TZOFFSETTO:-0400
TZNAME:EDT
DTSTART:20210314T070000
END:DAYLIGHT
BEGIN:STANDARD
TZOFFSETFROM:-0400
TZOFFSETTO:-0500
TZNAME:EST
DTSTART:20211107T060000
END:STANDARD
END:VTIMEZONE
BEGIN:VEVENT
DTSTART;TZID=America/Kentucky/Louisville:20211023T140000
DTEND;TZID=America/Kentucky/Louisville:20211023T160000
DTSTAMP:20260422T204333
CREATED:20211015T184934Z
LAST-MODIFIED:20211015T202402Z
UID:97726-1634997600-1635004800@bcplib.org
SUMMARY:Community Celebration
DESCRIPTION:It’s FINALLY time to get our celebration on! \nNichols Branch Library opened quietly in February 2020\, but our planned celebration was canceled due to the pandemic. Now\, we’re ready to party! \nJoin us to explore the newest addition to Bullitt County Public Library. We will begin with opening remarks\, followed by community conversation\, light refreshments\, giveaways\, and tours of our new space. Plus\, don’t forget to share a story at our Memory Booth! We’ll close the event with 2021 SummerQuest completers and students from Nichols Elementary School as they ring our Literacy Bell! \nFor all ages. Just drop in!\nGiveaways will be available on a first-come\, first-served basis. Questions or comments? Call Stephanie at 430-2392 or e-mail nil@bcplib.org.
URL:https://bcplib.org/event/ni-celebration/
LOCATION:Nichols Branch\, 10729 Highway 44 West\, West Point\, KY\, 40177\, United States
CATEGORIES:Adults,Teens,Tweens,Kids,Family
ORGANIZER;CN="Stephanie%20S.":MAILTO:nil@bcplib.org
GEO:38.0142396;-85.8852196
X-APPLE-STRUCTURED-LOCATION;VALUE=URI;X-ADDRESS=Nichols Branch 10729 Highway 44 West West Point KY 40177 United States;X-APPLE-RADIUS=500;X-TITLE=10729 Highway 44 West:geo:-85.8852196,38.0142396
END:VEVENT
END:VCALENDAR