BEGIN:VCALENDAR
VERSION:2.0
PRODID:-//Bullitt County Public Library - ECPv5.16.4//NONSGML v1.0//EN
CALSCALE:GREGORIAN
METHOD:PUBLISH
X-WR-CALNAME:Bullitt County Public Library
X-ORIGINAL-URL:https://bcplib.org
X-WR-CALDESC:Events for Bullitt County Public Library
BEGIN:VTIMEZONE
TZID:America/Kentucky/Louisville
BEGIN:DAYLIGHT
TZOFFSETFROM:-0500
TZOFFSETTO:-0400
TZNAME:EDT
DTSTART:20220313T070000
END:DAYLIGHT
BEGIN:STANDARD
TZOFFSETFROM:-0400
TZOFFSETTO:-0500
TZNAME:EST
DTSTART:20221106T060000
END:STANDARD
END:VTIMEZONE
BEGIN:VEVENT
DTSTART;TZID=America/Kentucky/Louisville:20220611T130000
DTEND;TZID=America/Kentucky/Louisville:20220611T160000
DTSTAMP:20260421T192330
CREATED:20220513T194754Z
LAST-MODIFIED:20220514T142529Z
UID:102171-1654952400-1654963200@bcplib.org
SUMMARY:Nature Play
DESCRIPTION:Get outside and PLAY! \nJoin us for a fun-filled field day and sensory stations all rolled into one! Enjoy a beach in the country\, make mud pies and dig for goodies\, sift through a corn pool\, and test your skills with a scavenger hunt. Plus\, make your own island doll and cap off your adventure with a stroll through the kiddie-wash! Bottled water and popsicles will be provided while supplies last. \nPsst… Wear your play clothes\, because we’re going to get dirty! \nFor children of all ages. Just drop in!\nSpace and materials will be provided on a first-come\, first-served basis. Questions? E-mail Kirsten at nilassistant@bcplib.org.
URL:https://bcplib.org/event/nature-play-2022/
LOCATION:Nichols Branch\, 10729 Highway 44 West\, West Point\, KY\, 40177\, United States
CATEGORIES:Tweens,Kids,Family
GEO:38.0142396;-85.8852196
X-APPLE-STRUCTURED-LOCATION;VALUE=URI;X-ADDRESS=Nichols Branch 10729 Highway 44 West West Point KY 40177 United States;X-APPLE-RADIUS=500;X-TITLE=10729 Highway 44 West:geo:-85.8852196,38.0142396
END:VEVENT
END:VCALENDAR