BEGIN:VCALENDAR
VERSION:2.0
PRODID:-//Bullitt County Public Library - ECPv5.16.4//NONSGML v1.0//EN
CALSCALE:GREGORIAN
METHOD:PUBLISH
X-WR-CALNAME:Bullitt County Public Library
X-ORIGINAL-URL:https://bcplib.org
X-WR-CALDESC:Events for Bullitt County Public Library
BEGIN:VTIMEZONE
TZID:America/Kentucky/Louisville
BEGIN:DAYLIGHT
TZOFFSETFROM:-0500
TZOFFSETTO:-0400
TZNAME:EDT
DTSTART:20180311T070000
END:DAYLIGHT
BEGIN:STANDARD
TZOFFSETFROM:-0400
TZOFFSETTO:-0500
TZNAME:EST
DTSTART:20181104T060000
END:STANDARD
END:VTIMEZONE
BEGIN:VEVENT
DTSTART;TZID=America/Kentucky/Louisville:20181108T180000
DTEND;TZID=America/Kentucky/Louisville:20181108T190000
DTSTAMP:20260422T212231
CREATED:20181001T202732Z
LAST-MODIFIED:20181001T202948Z
UID:38227-1541700000-1541703600@bcplib.org
SUMMARY:My Thankful Place
DESCRIPTION:Kids can put their own unique stamp on the Thanksgiving table! \nJoin us to weave your own holiday placemats! We’ll provide a weaving mat kit to get you started\, and children and their families can hand weave their own Thanksgiving or fall placemats for the dinner table. Participants will go home with a fun conversation piece for the family gathering that might just become a treasured holiday keepsake. \nFor children of all ages. Just drop in!\nSpace will be available on a first-come\, first-served basis. Questions or comments? Call Brandy at 543-7675 ext. 2555 or e-mail brandy@bcplib.org.
URL:https://bcplib.org/event/my-thankful-place-hl/
LOCATION:Hillview Branch\, 155 Terry Boulevard\, Hillview\, KY\, 40229\, United States
CATEGORIES:Tweens,Kids,Family
GEO:38.077247;-85.688966
X-APPLE-STRUCTURED-LOCATION;VALUE=URI;X-ADDRESS=Hillview Branch 155 Terry Boulevard Hillview KY 40229 United States;X-APPLE-RADIUS=500;X-TITLE=155 Terry Boulevard:geo:-85.688966,38.077247
END:VEVENT
END:VCALENDAR