BEGIN:VCALENDAR
VERSION:2.0
PRODID:-//Bullitt County Public Library - ECPv5.16.4//NONSGML v1.0//EN
CALSCALE:GREGORIAN
METHOD:PUBLISH
X-WR-CALNAME:Bullitt County Public Library
X-ORIGINAL-URL:https://bcplib.org
X-WR-CALDESC:Events for Bullitt County Public Library
BEGIN:VTIMEZONE
TZID:America/Kentucky/Louisville
BEGIN:DAYLIGHT
TZOFFSETFROM:-0500
TZOFFSETTO:-0400
TZNAME:EDT
DTSTART:20220313T070000
END:DAYLIGHT
BEGIN:STANDARD
TZOFFSETFROM:-0400
TZOFFSETTO:-0500
TZNAME:EST
DTSTART:20221106T060000
END:STANDARD
END:VTIMEZONE
BEGIN:VEVENT
DTSTART;TZID=America/Kentucky/Louisville:20220502T180000
DTEND;TZID=America/Kentucky/Louisville:20220502T190000
DTSTAMP:20260422T004944
CREATED:20220425T183705Z
LAST-MODIFIED:20220425T183810Z
UID:101861-1651514400-1651518000@bcplib.org
SUMMARY:Make It for Mom
DESCRIPTION:Are you searching for a special Mother’s Day gift that she will never forget? \nMake her something instead! Join us to paint and decorate custom sunglasses to give as a gift. We’ll provide a gift bag you can personalize\, too! \nFor children of all ages. Just drop in!\nSeating and supplies will be available on a first-come\, first-served basis. Questions? Contact Ms. Brandy at 543-7675 ext. 2555 or e-mail brandy@bcplib.org.
URL:https://bcplib.org/event/mom-hl/
LOCATION:Hillview Branch\, 155 Terry Boulevard\, Hillview\, KY\, 40229\, United States
CATEGORIES:Tweens,Kids
GEO:38.077247;-85.688966
X-APPLE-STRUCTURED-LOCATION;VALUE=URI;X-ADDRESS=Hillview Branch 155 Terry Boulevard Hillview KY 40229 United States;X-APPLE-RADIUS=500;X-TITLE=155 Terry Boulevard:geo:-85.688966,38.077247
END:VEVENT
END:VCALENDAR