BEGIN:VCALENDAR
VERSION:2.0
PRODID:-//Bullitt County Public Library - ECPv5.16.4//NONSGML v1.0//EN
CALSCALE:GREGORIAN
METHOD:PUBLISH
X-WR-CALNAME:Bullitt County Public Library
X-ORIGINAL-URL:https://bcplib.org
X-WR-CALDESC:Events for Bullitt County Public Library
BEGIN:VTIMEZONE
TZID:America/Kentucky/Louisville
BEGIN:DAYLIGHT
TZOFFSETFROM:-0500
TZOFFSETTO:-0400
TZNAME:EDT
DTSTART:20180311T070000
END:DAYLIGHT
BEGIN:STANDARD
TZOFFSETFROM:-0400
TZOFFSETTO:-0500
TZNAME:EST
DTSTART:20181104T060000
END:STANDARD
END:VTIMEZONE
BEGIN:VEVENT
DTSTART;TZID=America/Kentucky/Louisville:20180721T120000
DTEND;TZID=America/Kentucky/Louisville:20180721T150000
DTSTAMP:20260425T230306
CREATED:20180423T175910Z
LAST-MODIFIED:20180430T201448Z
UID:28322-1532174400-1532185200@bcplib.org
SUMMARY:Meet the Bun Bun Brigade
DESCRIPTION:Drop in anytime from 12:00 to 3:00 PM to meet the folks from the Bun Bun Brigade\, a private rabbit rescue from Elizabethtown dedicated to educating and enlightening people on the benefits of pet bunnies. Come learn from their colony of fluffy\, adoptable friends! \nFor all ages.\nJust drop in! Seating will be available on a first-come\, first-served basis. Questions? E-mail mike@bcplib.org.
URL:https://bcplib.org/event/meet-the-bun-bun-brigade-4/
LOCATION:Hillview Branch\, 155 Terry Boulevard\, Hillview\, KY\, 40229\, United States
CATEGORIES:Adults,Teens,Tweens,Kids,Family
ORGANIZER;CN="Mike":MAILTO:mike@bcplib.org
GEO:38.077247;-85.688966
X-APPLE-STRUCTURED-LOCATION;VALUE=URI;X-ADDRESS=Hillview Branch 155 Terry Boulevard Hillview KY 40229 United States;X-APPLE-RADIUS=500;X-TITLE=155 Terry Boulevard:geo:-85.688966,38.077247
END:VEVENT
END:VCALENDAR