BEGIN:VCALENDAR
VERSION:2.0
PRODID:-//Bullitt County Public Library - ECPv5.16.4//NONSGML v1.0//EN
CALSCALE:GREGORIAN
METHOD:PUBLISH
X-WR-CALNAME:Bullitt County Public Library
X-ORIGINAL-URL:https://bcplib.org
X-WR-CALDESC:Events for Bullitt County Public Library
BEGIN:VTIMEZONE
TZID:America/Kentucky/Louisville
BEGIN:DAYLIGHT
TZOFFSETFROM:-0500
TZOFFSETTO:-0400
TZNAME:EDT
DTSTART:20190310T070000
END:DAYLIGHT
BEGIN:STANDARD
TZOFFSETFROM:-0400
TZOFFSETTO:-0500
TZNAME:EST
DTSTART:20191103T060000
END:STANDARD
END:VTIMEZONE
BEGIN:VEVENT
DTSTART;TZID=America/Kentucky/Louisville:20191112T160000
DTEND;TZID=America/Kentucky/Louisville:20191112T180000
DTSTAMP:20260424T095502
CREATED:20190711T182050Z
LAST-MODIFIED:20191004T200003Z
UID:60934-1573574400-1573581600@bcplib.org
SUMMARY:Makerspace
DESCRIPTION:Hang out and make something uniquely awesome on the 2nd Tuesday of the month! \nCome explore your creative limits! Build\, design\, craft\, or invent with our surprise project of the month\, or raid our maker cart to follow your own muse. From 3D printers and Wacom art tablets to low-tech supplies like oil pastels and fine-line drawing pens\, choose from a variety of art supplies and tech tools to make your creative visions a reality! \nPsst…We’ll also have drinks and snacks to keep your creativity fueled! \nFor ages 12–18. Just drop in!\nSeating will be available on a first-come\, first-served basis. Questions? E-mail mike@bcplib.org.
URL:https://bcplib.org/event/makerspace_hl/2019-11-12/
LOCATION:Hillview Branch\, 155 Terry Boulevard\, Hillview\, KY\, 40229\, United States
CATEGORIES:Teens,Tweens
ORGANIZER;CN="Mike":MAILTO:mike@bcplib.org
GEO:38.077247;-85.688966
X-APPLE-STRUCTURED-LOCATION;VALUE=URI;X-ADDRESS=Hillview Branch 155 Terry Boulevard Hillview KY 40229 United States;X-APPLE-RADIUS=500;X-TITLE=155 Terry Boulevard:geo:-85.688966,38.077247
END:VEVENT
END:VCALENDAR