BEGIN:VCALENDAR
VERSION:2.0
PRODID:-//Bullitt County Public Library - ECPv5.16.4//NONSGML v1.0//EN
CALSCALE:GREGORIAN
METHOD:PUBLISH
X-WR-CALNAME:Bullitt County Public Library
X-ORIGINAL-URL:https://bcplib.org
X-WR-CALDESC:Events for Bullitt County Public Library
BEGIN:VTIMEZONE
TZID:America/Kentucky/Louisville
BEGIN:DAYLIGHT
TZOFFSETFROM:-0500
TZOFFSETTO:-0400
TZNAME:EDT
DTSTART:20180311T070000
END:DAYLIGHT
BEGIN:STANDARD
TZOFFSETFROM:-0400
TZOFFSETTO:-0500
TZNAME:EST
DTSTART:20181104T060000
END:STANDARD
END:VTIMEZONE
BEGIN:VEVENT
DTSTART;TZID=America/Kentucky/Louisville:20181120T160000
DTEND;TZID=America/Kentucky/Louisville:20181120T190000
DTSTAMP:20260421T203611
CREATED:20180424T163820Z
LAST-MODIFIED:20181022T200230Z
UID:29031-1542729600-1542740400@bcplib.org
SUMMARY:Makerspace: Cubelets
DESCRIPTION:Hang out and make art at BCPL! \nOn the 3rd Tuesday of each month\, come explore your artistic limits! Raid our maker cart and choose from a variety of art supplies and tools—from high-tech equipment like our Wacom art tablets to low-tech supplies like oil pastels and fine-line drawing pens. Then\, use our supplies and your imagination to make your artistic visions a reality! We’ll often host special art\, design\, and craft instructors\, and new art project will be featured each month. We’ll also have drinks and snacks if you just want to chill and hang with your friends. \nFor middle & high school ages.\nJust drop in! Seating will be available on a first-come\, first-served basis. Questions? E-mail steven@bcplib.org. \n\nUpcoming Makerspace activities at Ridgway Memorial include:\nNOVEMBER 20th: Cubelets\nRobots are the future of technology! One fun way of learning how robotics work is with Cubelets\, a modular robotic kit with endless possible combinations. Come experiment and learn to make your own awesome robot creations that light up\, move\, make noise\, and more! Beep boop! \nDECEMBER 18th: LEGOs\nWho says LEGOs are just for kids? Join fellow tweens and teens to build a GIANT LEGO creation together—or if you’re feeling anti-social\, you’re welcome to build on your own or in a smaller group. The sky is the limit! \nJANUARY 15th: 3D Printers\nDo you have a great idea for a toy\, ornament\, or some crazy invention but need help making your idea come to life? Learn how to bring your ideas into reality with our 3D printers! We will show you how to turn your designs into models\, giving you the power to make your very own 3D creations.
URL:https://bcplib.org/event/makerspace-rm/
LOCATION:Ridgway Memorial Library\, 127 N. Walnut Street\, Shepherdsville\, KY\, 40165\, United States
CATEGORIES:Teens,Tweens
ORGANIZER;CN="Steven":MAILTO:steven@bcplib.org
GEO:38.001133520394;-85.706045160467
X-APPLE-STRUCTURED-LOCATION;VALUE=URI;X-ADDRESS=Ridgway Memorial Library 127 N. Walnut Street Shepherdsville KY 40165 United States;X-APPLE-RADIUS=500;X-TITLE=127 N. Walnut Street:geo:-85.706045160467,38.001133520394
END:VEVENT
END:VCALENDAR