BEGIN:VCALENDAR
VERSION:2.0
PRODID:-//Bullitt County Public Library - ECPv5.16.4//NONSGML v1.0//EN
CALSCALE:GREGORIAN
METHOD:PUBLISH
X-WR-CALNAME:Bullitt County Public Library
X-ORIGINAL-URL:https://bcplib.org
X-WR-CALDESC:Events for Bullitt County Public Library
BEGIN:VTIMEZONE
TZID:America/Kentucky/Louisville
BEGIN:DAYLIGHT
TZOFFSETFROM:-0500
TZOFFSETTO:-0400
TZNAME:EDT
DTSTART:20220313T070000
END:DAYLIGHT
BEGIN:STANDARD
TZOFFSETFROM:-0400
TZOFFSETTO:-0500
TZNAME:EST
DTSTART:20221106T060000
END:STANDARD
END:VTIMEZONE
BEGIN:VEVENT
DTSTART;TZID=America/Kentucky/Louisville:20220421T160000
DTEND;TZID=America/Kentucky/Louisville:20220421T180000
DTSTAMP:20260422T014124
CREATED:20210817T222024Z
LAST-MODIFIED:20220404T182905Z
UID:100207-1650556800-1650564000@bcplib.org
SUMMARY:Makerspace: Sponge Planting
DESCRIPTION:Hang out and make something uniquely awesome two Thursdays each month! \nIn honor of Earth Day and our annual Seed & Plant Exchange\, we’re experimenting with plants. Skip the messy soil and start your own seed sprouts in sponges. You’ll be surprised what you can grow! \nABOUT MAKERSPACE \nCome explore your creative limits! Build\, design\, craft\, play\, or invent with our surprise projects\, or raid our maker cart to follow your own muse. From 3D printers\, Cubelets\, and Wacom art tablets to low-tech supplies like oil pastels and fine-line drawing pens\, choose from a variety of art supplies and tech tools to make your creative visions a reality! \nSpecial projects on the 1st Thursday of the month will be art-based; on the 3rd Thursday\, we’ll get techy with it! \nPsst…We’ll also supply drinks to keep your creativity fueled! \nFor ages 12–18. Just drop in!\nSeating will be available on a first-come\, first-served basis. Questions? E-mail alexis@bcplib.org.
URL:https://bcplib.org/event/makerspace-2021-2022-04-21/
LOCATION:Mt. Washington Branch\, 214 N. Bardstown Road\, Mt. Washington\, KY\, 40047\, United States
CATEGORIES:Teens,Tweens
ORGANIZER;CN="Alexis":MAILTO:alexis@bcplib.org
GEO:38.0492119;-85.5430434
X-APPLE-STRUCTURED-LOCATION;VALUE=URI;X-ADDRESS=Mt. Washington Branch 214 N. Bardstown Road Mt. Washington KY 40047 United States;X-APPLE-RADIUS=500;X-TITLE=214 N. Bardstown Road:geo:-85.5430434,38.0492119
END:VEVENT
END:VCALENDAR