BEGIN:VCALENDAR
VERSION:2.0
PRODID:-//Bullitt County Public Library - ECPv5.16.4//NONSGML v1.0//EN
CALSCALE:GREGORIAN
METHOD:PUBLISH
X-WR-CALNAME:Bullitt County Public Library
X-ORIGINAL-URL:https://bcplib.org
X-WR-CALDESC:Events for Bullitt County Public Library
BEGIN:VTIMEZONE
TZID:America/Kentucky/Louisville
BEGIN:DAYLIGHT
TZOFFSETFROM:-0500
TZOFFSETTO:-0400
TZNAME:EDT
DTSTART:20180311T070000
END:DAYLIGHT
BEGIN:STANDARD
TZOFFSETFROM:-0400
TZOFFSETTO:-0500
TZNAME:EST
DTSTART:20181104T060000
END:STANDARD
END:VTIMEZONE
BEGIN:VEVENT
DTSTART;TZID=America/Kentucky/Louisville:20180501T180000
DTEND;TZID=America/Kentucky/Louisville:20180501T190000
DTSTAMP:20260422T025413
CREATED:20180320T135401Z
LAST-MODIFIED:20180419T134714Z
UID:26345-1525197600-1525201200@bcplib.org
SUMMARY:Make It for Mom
DESCRIPTION:Are you looking for a perfect Mother’s Day gift that she will never forget? \nJoin us for a fun afternoon painting your mom a special coffee mug! We’ll also have materials available to make her a card so you can tell her how much you love her! \nBring your imagination\, and we’ll bring the supplies. We’ll be using oil-based pens\, so be sure to wear old clothes—this might get messy! \nFor children of all ages.\nWe’re sorry\, but guaranteed registration for this session is now closed.  Additional seating will be available on a first-come\, first-served basis. You may still register below to reserve your spot at our Mt. Washington session. Questions? E-mail angel@bcplib.org.
URL:https://bcplib.org/event/make-it-for-mom-rm/
LOCATION:Ridgway Memorial Library\, 127 N. Walnut Street\, Shepherdsville\, KY\, 40165\, United States
CATEGORIES:Kids
ORGANIZER;CN="Angel":MAILTO:angel@bcplib.org
GEO:38.001133520394;-85.706045160467
X-APPLE-STRUCTURED-LOCATION;VALUE=URI;X-ADDRESS=Ridgway Memorial Library 127 N. Walnut Street Shepherdsville KY 40165 United States;X-APPLE-RADIUS=500;X-TITLE=127 N. Walnut Street:geo:-85.706045160467,38.001133520394
END:VEVENT
END:VCALENDAR