BEGIN:VCALENDAR
VERSION:2.0
PRODID:-//Bullitt County Public Library - ECPv5.16.4//NONSGML v1.0//EN
CALSCALE:GREGORIAN
METHOD:PUBLISH
X-WR-CALNAME:Bullitt County Public Library
X-ORIGINAL-URL:https://bcplib.org
X-WR-CALDESC:Events for Bullitt County Public Library
BEGIN:VTIMEZONE
TZID:America/Kentucky/Louisville
BEGIN:DAYLIGHT
TZOFFSETFROM:-0500
TZOFFSETTO:-0400
TZNAME:EDT
DTSTART:20210314T070000
END:DAYLIGHT
BEGIN:STANDARD
TZOFFSETFROM:-0400
TZOFFSETTO:-0500
TZNAME:EST
DTSTART:20211107T060000
END:STANDARD
END:VTIMEZONE
BEGIN:VEVENT
DTSTART;TZID=America/Kentucky/Louisville:20211101T180000
DTEND;TZID=America/Kentucky/Louisville:20211101T190000
DTSTAMP:20260422T184610
CREATED:20211005T162526Z
LAST-MODIFIED:20211005T162526Z
UID:97233-1635789600-1635793200@bcplib.org
SUMMARY:Magic for Muggles: Sorcerer's Stone Painting
DESCRIPTION:It’s wizarding month at Mt. Washington Branch Library… \nAll month long\, immerse yourself in the magical world of Harry Potter! Create magical items\, enjoy new spellbinding activity challenges every week\, and snap some magical pics at our selfie station! Plus\, free Dobby by donating socks to be sent to schools and homeless shelters. \nThis week\, join us for Sorcerer’s Stone Painting. Using the rocks and paint we’ll provide\, create your very own sorcerer’s stone.\n \nPsst… While you’re at the library\, get sorted into your house! Roll the dice or choose which house represents you. Add your name under your house’s banner for all to see. \n\nACTIVITIES SCHEDULE: \nWEEK 1: November 1st–7th\nDrop-in Activity: Sorcerer’s Stone Painting | Monday\, November 1st @6:00–7:00 PM\nWeekly Activity Challenge: House Sorting \nWEEK 2: November 8th–14th\nDrop-in Activity: Tom Riddle’s Diary | Monday\, November 8th @6:00–7:00 PM\nWeekly Activity Challenge: Patronus Reveal \nWEEK 3: November 15th–21st\nDrop-in Activity: Goblet of Fire | Monday\, November 15th @6:00–7:00 PM\nWeekly activity Challenge: Horcruxes Guessing \nWEEK 4: October 22nd–30th\nWeekly Activity Challenge: Have You Seen This Wizard? \n\nFor all ages. Just drop in!\nSeating will be available on a first-come\, first-served basis. Questions? E-mail Ms. Angel at angel@bcplib.org. \nSUPPLIES ARE LIMITED.
URL:https://bcplib.org/event/magic-for-muggles-sorcerers-stone-painting/
LOCATION:Mt. Washington Branch\, 214 N. Bardstown Road\, Mt. Washington\, KY\, 40047\, United States
CATEGORIES:Adults,Teens,Tweens,Kids,Family
ORGANIZER;CN="Angel":MAILTO:angel@bcplib.org
GEO:38.0492119;-85.5430434
X-APPLE-STRUCTURED-LOCATION;VALUE=URI;X-ADDRESS=Mt. Washington Branch 214 N. Bardstown Road Mt. Washington KY 40047 United States;X-APPLE-RADIUS=500;X-TITLE=214 N. Bardstown Road:geo:-85.5430434,38.0492119
END:VEVENT
END:VCALENDAR