BEGIN:VCALENDAR
VERSION:2.0
PRODID:-//Bullitt County Public Library - ECPv5.16.4//NONSGML v1.0//EN
CALSCALE:GREGORIAN
METHOD:PUBLISH
X-WR-CALNAME:Bullitt County Public Library
X-ORIGINAL-URL:https://bcplib.org
X-WR-CALDESC:Events for Bullitt County Public Library
BEGIN:VTIMEZONE
TZID:America/Kentucky/Louisville
BEGIN:DAYLIGHT
TZOFFSETFROM:-0500
TZOFFSETTO:-0400
TZNAME:EDT
DTSTART:20220313T070000
END:DAYLIGHT
BEGIN:STANDARD
TZOFFSETFROM:-0400
TZOFFSETTO:-0500
TZNAME:EST
DTSTART:20221106T060000
END:STANDARD
END:VTIMEZONE
BEGIN:VEVENT
DTSTART;TZID=America/Kentucky/Louisville:20220210T110000
DTEND;TZID=America/Kentucky/Louisville:20220210T120000
DTSTAMP:20260422T044752
CREATED:20220119T172623Z
LAST-MODIFIED:20220119T175533Z
UID:99684-1644490800-1644494400@bcplib.org
SUMMARY:Love Buddies
DESCRIPTION:A craft every little reader will love… \nUsing fluffy pom-poms\, felt\, and silly googly eyes\, design your very own love buddy to read to! Plus\, enjoy a lovable story from the Click Clack Moo series. \nFor ages 3–5. Just drop in!\nSeating and materials will be available on a first-come\, first-served basis. Questions? Call Ms. Brandy at 543-7675 ext. 2555 or e-mail brandy@bcplib.org.
URL:https://bcplib.org/event/love-buddies/
LOCATION:Hillview Branch\, 155 Terry Boulevard\, Hillview\, KY\, 40229\, United States
CATEGORIES:Kids
GEO:38.077247;-85.688966
X-APPLE-STRUCTURED-LOCATION;VALUE=URI;X-ADDRESS=Hillview Branch 155 Terry Boulevard Hillview KY 40229 United States;X-APPLE-RADIUS=500;X-TITLE=155 Terry Boulevard:geo:-85.688966,38.077247
END:VEVENT
END:VCALENDAR