BEGIN:VCALENDAR
VERSION:2.0
PRODID:-//Bullitt County Public Library - ECPv5.16.4//NONSGML v1.0//EN
CALSCALE:GREGORIAN
METHOD:PUBLISH
X-WR-CALNAME:Bullitt County Public Library
X-ORIGINAL-URL:https://bcplib.org
X-WR-CALDESC:Events for Bullitt County Public Library
BEGIN:VTIMEZONE
TZID:America/Kentucky/Louisville
BEGIN:DAYLIGHT
TZOFFSETFROM:-0500
TZOFFSETTO:-0400
TZNAME:EDT
DTSTART:20220313T070000
END:DAYLIGHT
BEGIN:STANDARD
TZOFFSETFROM:-0400
TZOFFSETTO:-0500
TZNAME:EST
DTSTART:20221106T060000
END:STANDARD
END:VTIMEZONE
BEGIN:VEVENT
DTSTART;TZID=America/Kentucky/Louisville:20220714T090000
DTEND;TZID=America/Kentucky/Louisville:20220714T150000
DTSTAMP:20260421T154951
CREATED:20220708T160100Z
LAST-MODIFIED:20220712T165009Z
UID:103055-1657789200-1657810800@bcplib.org
SUMMARY:Library Board of Trustees Special Called Meeting
DESCRIPTION:A Special Called meeting of the Library Board of Trustees will be held in the Community Wing at Central Library. The purpose of the meeting is to interview candidates for the vacant Director position. \nMembers of the public are invited to attend in person or via Zoom. Please note\, a significant portion of this meeting will be held in closed session for candidate privacy. No actions can be taken by the Board of Trustees during the closed session portion of the event. \nMeeting Agenda \nABOUT THE ZOOM MEETING\nYou can join the meeting from your browser using the following join link: https://us02web.zoom.us/j/82141253797. Please note\, if you experience issues with one browser\, you may have better results if you try a different browser for viewing (e.g.\, Chrome or Firefox). If you do not have internet access and would like to listen by phone or if you experience audio difficulties\, you may also use the details provided in the join invitation. \nView Join Invitation\n\nTopic: Special Called Meeting BCPL Director Interviews\nTime: Jul 14\, 2022 09:00 AM Eastern Time (US and Canada)\n\nJoin Zoom Meeting\nhttps://us02web.zoom.us/j/82141253797\n\nMeeting ID: 821 4125 3797\nOne tap mobile\n+16469313860\,\,82141253797# US\n+13017158592\,\,82141253797# US (Washington DC)\n\nDial by your location\n        +1 646 931 3860 US\n        +1 301 715 8592 US (Washington DC)\n        +1 312 626 6799 US (Chicago)\n        +1 646 558 8656 US (New York)\n        +1 669 900 9128 US (San Jose)\n        +1 253 215 8782 US (Tacoma)\n        +1 346 248 7799 US (Houston)\n        +1 669 444 9171 US\nMeeting ID: 821 4125 3797\nFind your local number: https://us02web.zoom.us/u/kcxZ84BluH\n\n\n \n\n\nQuestions? Contact Assistant Director Jennifer Nippert at jnippert@bcplib.org or call 543-7675 ext. 2005.
URL:https://bcplib.org/event/library-board-sc-july2022/
LOCATION:Central Library\, 740 Conestoga Parkway\, Shepherdsville\, KY\, 40165\, United States
CATEGORIES:Adults
ORGANIZER;CN="Jennifer":MAILTO:jnippert@bcplib.org
GEO:38.00114197470041;-85.70603443163063
X-APPLE-STRUCTURED-LOCATION;VALUE=URI;X-ADDRESS=Central Library 740 Conestoga Parkway Shepherdsville KY 40165 United States;X-APPLE-RADIUS=500;X-TITLE=740 Conestoga Parkway:geo:-85.70603443163063,38.00114197470041
END:VEVENT
END:VCALENDAR