BEGIN:VCALENDAR
VERSION:2.0
PRODID:-//Bullitt County Public Library - ECPv5.16.4//NONSGML v1.0//EN
CALSCALE:GREGORIAN
METHOD:PUBLISH
X-WR-CALNAME:Bullitt County Public Library
X-ORIGINAL-URL:https://bcplib.org
X-WR-CALDESC:Events for Bullitt County Public Library
BEGIN:VTIMEZONE
TZID:America/Kentucky/Louisville
BEGIN:DAYLIGHT
TZOFFSETFROM:-0500
TZOFFSETTO:-0400
TZNAME:EDT
DTSTART:20220313T070000
END:DAYLIGHT
BEGIN:STANDARD
TZOFFSETFROM:-0400
TZOFFSETTO:-0500
TZNAME:EST
DTSTART:20221106T060000
END:STANDARD
END:VTIMEZONE
BEGIN:VEVENT
DTSTART;TZID=America/Kentucky/Louisville:20220208T170000
DTEND;TZID=America/Kentucky/Louisville:20220208T180000
DTSTAMP:20260421T235114
CREATED:20220203T205213Z
LAST-MODIFIED:20220203T205437Z
UID:100339-1644339600-1644343200@bcplib.org
SUMMARY:Library Board of Trustees Special Called Meeting
DESCRIPTION:A Special Called meeting of the Library Board of Trustees will be held at Ridgway Memorial Library and virtually using Zoom. Members of the public are invited to attend or watch the meeting live online. \nABOUT THE ZOOM MEETING\nYou can join the meeting from your browser using the following join link: https://us02web.zoom.us/j/81816697364. Please note\, if you experience issues with one browser\, you may have better results if you try a different browser for viewing (e.g.\, Chrome or Firefox). If you do not have internet access and would like to listen by phone or if you experience audio difficulties\, you may also use the details provided in the join invitation. \nView Join Invitation\nTopic: Special Called Meeting BCPL Board of Trustees\nTime: Feb 8\, 2022 05:00 PM Eastern Time (US and Canada)\n\nJoin Zoom Meeting\nhttps://us02web.zoom.us/j/81816697364\n\nMeeting ID: 818 1669 7364\nOne tap mobile\n+13126266799\,\,81816697364# US (Chicago)\n+16465588656\,\,81816697364# US (New York)\n\nDial by your location\n        +1 312 626 6799 US (Chicago)\n        +1 646 558 8656 US (New York)\n        +1 301 715 8592 US (Washington DC)\n        +1 346 248 7799 US (Houston)\n        +1 669 900 9128 US (San Jose)\n        +1 253 215 8782 US (Tacoma)\nMeeting ID: 818 1669 7364\nFind your local number: https://us02web.zoom.us/u/kcFTGthkAB\n\n\n\n \n\n\nQuestions? Contact Assistant Director Jennifer Nippert at jnippert@bcplib.org or call 543-7675 ext. 2005.
URL:https://bcplib.org/event/library-board-of-trustees-special-called-meeting/
LOCATION:Ridgway Memorial Library\, 127 N. Walnut Street\, Shepherdsville\, KY\, 40165\, United States
CATEGORIES:Adults
ORGANIZER;CN="Jennifer":MAILTO:jnippert@bcplib.org
GEO:38.001133520394;-85.706045160467
X-APPLE-STRUCTURED-LOCATION;VALUE=URI;X-ADDRESS=Ridgway Memorial Library 127 N. Walnut Street Shepherdsville KY 40165 United States;X-APPLE-RADIUS=500;X-TITLE=127 N. Walnut Street:geo:-85.706045160467,38.001133520394
END:VEVENT
END:VCALENDAR