BEGIN:VCALENDAR
VERSION:2.0
PRODID:-//Bullitt County Public Library - ECPv5.16.4//NONSGML v1.0//EN
CALSCALE:GREGORIAN
METHOD:PUBLISH
X-WR-CALNAME:Bullitt County Public Library
X-ORIGINAL-URL:https://bcplib.org
X-WR-CALDESC:Events for Bullitt County Public Library
BEGIN:VTIMEZONE
TZID:America/Kentucky/Louisville
BEGIN:DAYLIGHT
TZOFFSETFROM:-0500
TZOFFSETTO:-0400
TZNAME:EDT
DTSTART:20210314T070000
END:DAYLIGHT
BEGIN:STANDARD
TZOFFSETFROM:-0400
TZOFFSETTO:-0500
TZNAME:EST
DTSTART:20211107T060000
END:STANDARD
END:VTIMEZONE
BEGIN:VEVENT
DTSTART;TZID=America/Kentucky/Louisville:20211109T170000
DTEND;TZID=America/Kentucky/Louisville:20211109T190000
DTSTAMP:20260422T181922
CREATED:20170327T163930Z
LAST-MODIFIED:20211027T191955Z
UID:91678-1636477200-1636484400@bcplib.org
SUMMARY:Board of Trustees Meeting
DESCRIPTION:Due to the Thanksgiving holiday\, the November meeting of the Library Board of Trustees has been moved up to the second Tuesday of the month. Meetings are open to the public.
URL:https://bcplib.org/event/library-board-meeting-2021-11/
LOCATION:Ridgway Memorial Library\, 127 N. Walnut Street\, Shepherdsville\, KY\, 40165\, United States
CATEGORIES:Adults
ORGANIZER;CN="Jennifer":MAILTO:jnippert@bcplib.org
GEO:38.001133520394;-85.706045160467
X-APPLE-STRUCTURED-LOCATION;VALUE=URI;X-ADDRESS=Ridgway Memorial Library 127 N. Walnut Street Shepherdsville KY 40165 United States;X-APPLE-RADIUS=500;X-TITLE=127 N. Walnut Street:geo:-85.706045160467,38.001133520394
END:VEVENT
END:VCALENDAR