BEGIN:VCALENDAR
VERSION:2.0
PRODID:-//Bullitt County Public Library - ECPv5.16.4//NONSGML v1.0//EN
CALSCALE:GREGORIAN
METHOD:PUBLISH
X-WR-CALNAME:Bullitt County Public Library
X-ORIGINAL-URL:https://bcplib.org
X-WR-CALDESC:Events for Bullitt County Public Library
BEGIN:VTIMEZONE
TZID:America/Kentucky/Louisville
BEGIN:DAYLIGHT
TZOFFSETFROM:-0500
TZOFFSETTO:-0400
TZNAME:EDT
DTSTART:20210314T070000
END:DAYLIGHT
BEGIN:STANDARD
TZOFFSETFROM:-0400
TZOFFSETTO:-0500
TZNAME:EST
DTSTART:20211107T060000
END:STANDARD
END:VTIMEZONE
BEGIN:VEVENT
DTSTART;TZID=America/Kentucky/Louisville:20210622T170000
DTEND;TZID=America/Kentucky/Louisville:20210622T190000
DTSTAMP:20260423T072610
CREATED:20170327T163930Z
LAST-MODIFIED:20210622T194847Z
UID:78501-1624381200-1624388400@bcplib.org
SUMMARY:Board of Trustees Meeting
DESCRIPTION:The monthly meeting of the Library Board of Trustees will be held virtually using Zoom. Members of the public are invited to watch the meeting live online. \nABOUT THE ZOOM MEETING\nYou can join the meeting from your browser using the following join link: https://us02web.zoom.us/j/82100158497. Please note\, if you experience issues with one browser\, you may have better results if you try a different browser for viewing (e.g.\, Chrome or Firefox). If you do not have internet access and would like to listen by phone or if you experience audio difficulties\, you may also use the details provided in the join invitation. \nView Join Invitation\n\nTopic: BCPL Board of Trustees June meeting\nTime: June 22\, 2021 05:00 PM Eastern Time (US and Canada)\n\nJoin Zoom Meeting\nhttps://us02web.zoom.us/j/82100158497\n\n\nMeeting ID: 821 0015 8497\nOne tap mobile\n+13017158592\,\,82100158497# US (Washington DC)\n+13126266799\,\,82100158497# US (Chicago)\n\nDial by your location\n        +1 301 715 8592 US (Washington DC)\n        +1 312 626 6799 US (Chicago)\n        +1 646 558 8656 US (New York)\n        +1 253 215 8782 US (Tacoma)\n        +1 346 248 7799 US (Houston)\n        +1 669 900 9128 US (San Jose)\nMeeting ID: 821 0015 8497\nFind your local number: https://us02web.zoom.us/u/kbFQnICogE\n\n \n\nQuestions? Contact Assistant Director Jennifer Nippert at jnippert@bcplib.org or call 543-7675 ext. 2005.
URL:https://bcplib.org/event/library-board-meeting-2021-06-22/
LOCATION:Zoom Meeting
CATEGORIES:Adults
ORGANIZER;CN="Jennifer":MAILTO:jnippert@bcplib.org
END:VEVENT
END:VCALENDAR