BEGIN:VCALENDAR
VERSION:2.0
PRODID:-//Bullitt County Public Library - ECPv5.16.4//NONSGML v1.0//EN
CALSCALE:GREGORIAN
METHOD:PUBLISH
X-WR-CALNAME:Bullitt County Public Library
X-ORIGINAL-URL:https://bcplib.org
X-WR-CALDESC:Events for Bullitt County Public Library
BEGIN:VTIMEZONE
TZID:America/Kentucky/Louisville
BEGIN:DAYLIGHT
TZOFFSETFROM:-0500
TZOFFSETTO:-0400
TZNAME:EDT
DTSTART:20220313T070000
END:DAYLIGHT
BEGIN:STANDARD
TZOFFSETFROM:-0400
TZOFFSETTO:-0500
TZNAME:EST
DTSTART:20221106T060000
END:STANDARD
END:VTIMEZONE
BEGIN:VEVENT
DTSTART;TZID=America/Kentucky/Louisville:20220621T183000
DTEND;TZID=America/Kentucky/Louisville:20220621T193000
DTSTAMP:20260421T174512
CREATED:20220520T195523Z
LAST-MODIFIED:20220520T195911Z
UID:102440-1655836200-1655839800@bcplib.org
SUMMARY:LGBTQ+ Kentucky History
DESCRIPTION:Discover an overlooked piece of Kentucky’s history… \nJoin Dr. Jonathan Coleman—co-founder of the Faulkner Morgan Archive and author of the upcoming book Anywhere\, Together: A Queer History of Kentucky—to explore the rich history of the LGBTQ community in the Commonwealth. During his presentation\, Dr. Coleman will share several notable artifacts from the Archive’s collection along with historical photos and stories. \nAfter the opening discussion\, we will open up for questions from members of our audience on Facebook Live and Zoom at https://us02web.zoom.us/j/84930415638?pwd=iziMZTPZiYmOVeoWU8IKyTWlqGojPA.1. \nABOUT THE FAULKNER MORGAN ARCHIVE\nDedicated to telling Kentucky’s LGBTQ story\, the Faulkner Morgan Archive\, Inc. collects\, preserves\, and promotes the lesbian\, gay\, bisexual\, trans\, and queer history of Kentucky. Founded in 2014\, the FMA currently houses 15\,000 items and more than 250 hours of recorded interviews. The collections span 200 years of history\, representing individuals\, events\, and institutions across Kentucky’s diverse LGBTQ spectrum\, creating a rich resource for activists\, scholars\, artists\, and museums. \nABOUT THE ZOOM MEETING\nYou can join the meeting from your browser using the following join link: https://us02web.zoom.us/j/84930415638?pwd=iziMZTPZiYmOVeoWU8IKyTWlqGojPA.1. \nView Join Invitation\nTopic: LGBTQ+ Kentucky History\nTime: Jun 21\, 2022 06:30 PM Eastern Time (US and Canada)\n\nJoin Zoom Meeting\nhttps://us02web.zoom.us/j/84930415638?pwd=iziMZTPZiYmOVeoWU8IKyTWlqGojPA.1\n\nMeeting ID: 849 3041 5638\nPasscode: 142963\nOne tap mobile\n+13017158592\,\,84930415638#\,\,\,\,*142963# US (Washington DC)\n+13126266799\,\,84930415638#\,\,\,\,*142963# US (Chicago)\n\nDial by your location\n        +1 301 715 8592 US (Washington DC)\n        +1 312 626 6799 US (Chicago)\n        +1 646 558 8656 US (New York)\n        +1 253 215 8782 US (Tacoma)\n        +1 346 248 7799 US (Houston)\n        +1 669 900 9128 US (San Jose)\nMeeting ID: 849 3041 5638\nPasscode: 142963\nFind your local number: https://us02web.zoom.us/u/kdGoEYl9U4\n \n\nFor ages 13 and up.\nEnjoy the live presentation from the comfort of home via BCPL’s main Facebook page or Zoom at 6:30 PM. Can’t make it at 6:30 PM? That’s fine\, too. The discussion will remain online to view\, share\, and enjoy. \nQuestions? Contact Kathryn at 543-7675 ext. 4 or e-mail kgillespie@bcplib.org.
URL:https://bcplib.org/event/lgbtq-kyhistory/
LOCATION:BCPL on Facebook
CATEGORIES:Adults,Teens
ORGANIZER;CN="Kathryn":MAILTO:kathryn@bcplib.org
END:VEVENT
END:VCALENDAR