BEGIN:VCALENDAR
VERSION:2.0
PRODID:-//Bullitt County Public Library - ECPv5.16.4//NONSGML v1.0//EN
CALSCALE:GREGORIAN
METHOD:PUBLISH
X-WR-CALNAME:Bullitt County Public Library
X-ORIGINAL-URL:https://bcplib.org
X-WR-CALDESC:Events for Bullitt County Public Library
BEGIN:VTIMEZONE
TZID:America/Kentucky/Louisville
BEGIN:DAYLIGHT
TZOFFSETFROM:-0500
TZOFFSETTO:-0400
TZNAME:EDT
DTSTART:20220313T070000
END:DAYLIGHT
BEGIN:STANDARD
TZOFFSETFROM:-0400
TZOFFSETTO:-0500
TZNAME:EST
DTSTART:20221106T060000
END:STANDARD
END:VTIMEZONE
BEGIN:VEVENT
DTSTART;TZID=America/Kentucky/Louisville:20220318T100000
DTEND;TZID=America/Kentucky/Louisville:20220318T110000
DTSTAMP:20260422T032708
CREATED:20220215T164632Z
LAST-MODIFIED:20220215T164656Z
UID:100498-1647597600-1647601200@bcplib.org
SUMMARY:Kindergarten Readiness Workshop: Shapes and Sizes
DESCRIPTION:Get the tips and tools you need to help your child prepare for school! \nIn this 1-hour session\, we’ll work on shape recognition and patterns. And of course we will have a story and fun\, hands-on activity stations to help children better understand and retain the information. We’ll play sorting games\, do puzzles\, and more! \nKids and parents will also receive a packet of important resources that will help children continue learning about shapes and patterns at home. Plus\, each child will be entered in a drawing to win an extra activity prize that is both educational and enjoyable! \nPsst… We missed our Colors workshop in January due to our programs hiatus\, but never fear! We’ll have some extra colorful fun in March to make up for it! \nFor ages 3–5. Just drop in!\nMaterials and seating will be available on a first-come\, first-served basis. Questions? Call Ms. Angle at 543-76765 ext. 2556 or e-mail angel@bcplib.org.
URL:https://bcplib.org/event/krw2022-shapes-mw/
LOCATION:Mt. Washington Branch\, 214 N. Bardstown Road\, Mt. Washington\, KY\, 40047\, United States
CATEGORIES:Kids
ORGANIZER;CN="Angel":MAILTO:angel@bcplib.org
GEO:38.0492119;-85.5430434
X-APPLE-STRUCTURED-LOCATION;VALUE=URI;X-ADDRESS=Mt. Washington Branch 214 N. Bardstown Road Mt. Washington KY 40047 United States;X-APPLE-RADIUS=500;X-TITLE=214 N. Bardstown Road:geo:-85.5430434,38.0492119
END:VEVENT
END:VCALENDAR