BEGIN:VCALENDAR
VERSION:2.0
PRODID:-//Bullitt County Public Library - ECPv5.16.4//NONSGML v1.0//EN
CALSCALE:GREGORIAN
METHOD:PUBLISH
X-WR-CALNAME:Bullitt County Public Library
X-ORIGINAL-URL:https://bcplib.org
X-WR-CALDESC:Events for Bullitt County Public Library
BEGIN:VTIMEZONE
TZID:America/Kentucky/Louisville
BEGIN:DAYLIGHT
TZOFFSETFROM:-0500
TZOFFSETTO:-0400
TZNAME:EDT
DTSTART:20210314T070000
END:DAYLIGHT
BEGIN:STANDARD
TZOFFSETFROM:-0400
TZOFFSETTO:-0500
TZNAME:EST
DTSTART:20211107T060000
END:STANDARD
END:VTIMEZONE
BEGIN:VEVENT
DTSTART;TZID=America/Kentucky/Louisville:20210924T100000
DTEND;TZID=America/Kentucky/Louisville:20210924T110000
DTSTAMP:20260423T052537
CREATED:20210727T145729Z
LAST-MODIFIED:20210727T145729Z
UID:94432-1632477600-1632481200@bcplib.org
SUMMARY:Kindergarten Readiness Workshop: The Alphabet
DESCRIPTION:Get the tips and tools you need to help your child prepare for school! \nIn this 1-hour session\, we’ll explore the alphabet with stations designed to help young children understand. Your child will have a chance to win a prize drawing\, and then we’ll send you home with some special resources to keep your child practicing and learning until our next workshop. Plus\, each child will get to pick out and take home their own book! \nStay tuned for three more workshops\, where we will explore numbers and math\, colors\, and shapes and sizes! \nFor ages 3–5. Just drop in!\nSeating and materials will be available on a first-come\, first-served basis. Questions? E-mail brandy@bcplib.org.
URL:https://bcplib.org/event/krw-alphabet-hl2021/
LOCATION:Hillview Branch\, 155 Terry Boulevard\, Hillview\, KY\, 40229\, United States
CATEGORIES:Kids
GEO:38.077247;-85.688966
X-APPLE-STRUCTURED-LOCATION;VALUE=URI;X-ADDRESS=Hillview Branch 155 Terry Boulevard Hillview KY 40229 United States;X-APPLE-RADIUS=500;X-TITLE=155 Terry Boulevard:geo:-85.688966,38.077247
END:VEVENT
END:VCALENDAR