BEGIN:VCALENDAR
VERSION:2.0
PRODID:-//Bullitt County Public Library - ECPv5.16.4//NONSGML v1.0//EN
CALSCALE:GREGORIAN
METHOD:PUBLISH
X-WR-CALNAME:Bullitt County Public Library
X-ORIGINAL-URL:https://bcplib.org
X-WR-CALDESC:Events for Bullitt County Public Library
BEGIN:VTIMEZONE
TZID:America/Kentucky/Louisville
BEGIN:DAYLIGHT
TZOFFSETFROM:-0500
TZOFFSETTO:-0400
TZNAME:EDT
DTSTART:20190310T070000
END:DAYLIGHT
BEGIN:STANDARD
TZOFFSETFROM:-0400
TZOFFSETTO:-0500
TZNAME:EST
DTSTART:20191103T060000
END:STANDARD
END:VTIMEZONE
BEGIN:VEVENT
DTSTART;TZID=America/Kentucky/Louisville:20191109T140000
DTEND;TZID=America/Kentucky/Louisville:20191109T150000
DTSTAMP:20260424T163923
CREATED:20191009T201205Z
LAST-MODIFIED:20191009T201420Z
UID:61461-1573308000-1573311600@bcplib.org
SUMMARY:Kindergarten Readiness Workshop: Numbers + Math
DESCRIPTION:Get the tips and tools you need to help your child prepare for school! \nIn this 1-hour session\, we’ll begin exploring numbers with an introductory story. Then\, families will break up into stations designed to help young children understand basic counting and math concepts. All children will be entered into a prize drawing\, and parents will receive a packet of important resources that will help children practice numbers and simple math at home. Plus\, each child will receive a fun math-related prize! \nStay tuned for two more workshops\, where we will explore shapes and colors! \nFor ages 3–5. Just drop in!\nMaterials and seating will be available on a first-come\, first-served basis. Questions? E-mail jillian@bcplib.org.
URL:https://bcplib.org/event/kindergarten-readiness-workshop-numbers-math-rm/
LOCATION:Ridgway Memorial Library\, 127 N. Walnut Street\, Shepherdsville\, KY\, 40165\, United States
CATEGORIES:Kids
ORGANIZER;CN="Jillian":MAILTO:jillian@bcplib.org
GEO:38.001133520394;-85.706045160467
X-APPLE-STRUCTURED-LOCATION;VALUE=URI;X-ADDRESS=Ridgway Memorial Library 127 N. Walnut Street Shepherdsville KY 40165 United States;X-APPLE-RADIUS=500;X-TITLE=127 N. Walnut Street:geo:-85.706045160467,38.001133520394
END:VEVENT
END:VCALENDAR