BEGIN:VCALENDAR
VERSION:2.0
PRODID:-//Bullitt County Public Library - ECPv5.16.4//NONSGML v1.0//EN
CALSCALE:GREGORIAN
METHOD:PUBLISH
X-WR-CALNAME:Bullitt County Public Library
X-ORIGINAL-URL:https://bcplib.org
X-WR-CALDESC:Events for Bullitt County Public Library
BEGIN:VTIMEZONE
TZID:America/Kentucky/Louisville
BEGIN:DAYLIGHT
TZOFFSETFROM:-0500
TZOFFSETTO:-0400
TZNAME:EDT
DTSTART:20180311T070000
END:DAYLIGHT
BEGIN:STANDARD
TZOFFSETFROM:-0400
TZOFFSETTO:-0500
TZNAME:EST
DTSTART:20181104T060000
END:STANDARD
END:VTIMEZONE
BEGIN:VEVENT
DTSTART;TZID=America/Kentucky/Louisville:20181103T110000
DTEND;TZID=America/Kentucky/Louisville:20181103T120000
DTSTAMP:20260423T233835
CREATED:20181001T195027Z
LAST-MODIFIED:20181001T195027Z
UID:38319-1541242800-1541246400@bcplib.org
SUMMARY:Kindergarten Readiness Mini Workshop: Numbers + Math
DESCRIPTION:Get the tips and tools you need to help your child prepare for school! \nIn this 1-hour session\, we’ll begin exploring numbers with an introductory story. Then\, families will break up into 5 stations designed to help young children understand basic counting and math concepts. All children will be entered into a prize drawing\, and parents will receive a packet of important resources that will help children practice numbers and simple math at home. \nStay tuned for two more mini workshops in 2019\, when we will explore shapes and colors! \nFor ages 3–5.\nRegistration is required for a select number of reserved seats. Additional seating will be available on a first-come\, first-served basis. Questions? E-mail angel@bcplib.org.
URL:https://bcplib.org/event/kindergarten-readiness-mini-workshop-numbers-math/
LOCATION:Mt. Washington Branch\, 214 N. Bardstown Road\, Mt. Washington\, KY\, 40047\, United States
CATEGORIES:Kids
ORGANIZER;CN="Angel":MAILTO:angel@bcplib.org
GEO:38.0492119;-85.5430434
X-APPLE-STRUCTURED-LOCATION;VALUE=URI;X-ADDRESS=Mt. Washington Branch 214 N. Bardstown Road Mt. Washington KY 40047 United States;X-APPLE-RADIUS=500;X-TITLE=214 N. Bardstown Road:geo:-85.5430434,38.0492119
END:VEVENT
END:VCALENDAR