BEGIN:VCALENDAR
VERSION:2.0
PRODID:-//Bullitt County Public Library - ECPv5.16.4//NONSGML v1.0//EN
CALSCALE:GREGORIAN
METHOD:PUBLISH
X-WR-CALNAME:Bullitt County Public Library
X-ORIGINAL-URL:https://bcplib.org
X-WR-CALDESC:Events for Bullitt County Public Library
BEGIN:VTIMEZONE
TZID:America/Kentucky/Louisville
BEGIN:DAYLIGHT
TZOFFSETFROM:-0500
TZOFFSETTO:-0400
TZNAME:EDT
DTSTART:20220313T070000
END:DAYLIGHT
BEGIN:STANDARD
TZOFFSETFROM:-0400
TZOFFSETTO:-0500
TZNAME:EST
DTSTART:20221106T060000
END:STANDARD
END:VTIMEZONE
BEGIN:VEVENT
DTSTART;TZID=America/Kentucky/Louisville:20220709T110000
DTEND;TZID=America/Kentucky/Louisville:20220709T120000
DTSTAMP:20260421T174711
CREATED:20210909T143242Z
LAST-MODIFIED:20220705T153752Z
UID:96749-1657364400-1657368000@bcplib.org
SUMMARY:Kinder Camp
DESCRIPTION:**Please note: Due to the heat closure at Ridgway Memorial\, this event has been moved to the Community Wing at Central Library. The main section of the library will be closed.*\nLearning is an adventure… \nGather around the “campfire” and get ready for kindergarten! Each session of Kinder Camp will focus on one of the five core foundations of school readiness to help your littles prepare for the day-to-day of attending school. Children will practice self-help strategies\, self-advocating\, motor skills\, interactive play skills\, communication\, following direction\, and conflict resolution through sensory activities and tons of dramatic play. From kindergarten basics to mock scenarios like taking a school bus or  lunch in the cafeteria\, this monthly series will build skills and confidence so kids (and parents) will be ready when their first school year begins. \n5 Essential Domains of School Readiness: \n\nLanguage and Literacy\nCognitive Ability & General Knowledge\nApproaches to Learning\nPhysical Well Being & Movement\nSocial & Emotional Development\n\nPsst… Each session will involve parent/guardian engagement. Participation at all 10 monthly sessions from October–July is highly recommended. \nFor the incoming kindergarteners of the 2022–2023 school year.\nRegistration is required for a select number of reserved seats. Additional seating will be available on a first-come\, first-served basis. Questions? Call Ms. Jillian at 543-7675 ext. 2557 or e-mail jillian@bcplib.org. \n\nWe’re sorry\, but registration for our 2021–2022 Kinder Camp at Ridgway Memorial Library is now at capacity. However\, you may still register to attend afternoon session at our Lebanon Junction branch.
URL:https://bcplib.org/event/kinder-camp-rm-2022-07-09/2022-07-09/
LOCATION:Central Library\, 740 Conestoga Parkway\, Shepherdsville\, KY\, 40165\, United States
CATEGORIES:Kids
ORGANIZER;CN="Jillian":MAILTO:jillian@bcplib.org
GEO:38.00114197470041;-85.70603443163063
X-APPLE-STRUCTURED-LOCATION;VALUE=URI;X-ADDRESS=Central Library 740 Conestoga Parkway Shepherdsville KY 40165 United States;X-APPLE-RADIUS=500;X-TITLE=740 Conestoga Parkway:geo:-85.70603443163063,38.00114197470041
END:VEVENT
END:VCALENDAR