BEGIN:VCALENDAR
VERSION:2.0
PRODID:-//Bullitt County Public Library - ECPv5.16.4//NONSGML v1.0//EN
CALSCALE:GREGORIAN
METHOD:PUBLISH
X-WR-CALNAME:Bullitt County Public Library
X-ORIGINAL-URL:https://bcplib.org
X-WR-CALDESC:Events for Bullitt County Public Library
BEGIN:VTIMEZONE
TZID:America/Kentucky/Louisville
BEGIN:DAYLIGHT
TZOFFSETFROM:-0500
TZOFFSETTO:-0400
TZNAME:EDT
DTSTART:20210314T070000
END:DAYLIGHT
BEGIN:STANDARD
TZOFFSETFROM:-0400
TZOFFSETTO:-0500
TZNAME:EST
DTSTART:20211107T060000
END:STANDARD
END:VTIMEZONE
BEGIN:VEVENT
DTSTART;TZID=America/Kentucky/Louisville:20210619T120000
DTEND;TZID=America/Kentucky/Louisville:20210619T123000
DTSTAMP:20260423T071620
CREATED:20210526T165333Z
LAST-MODIFIED:20210526T174824Z
UID:93835-1624104000-1624105800@bcplib.org
SUMMARY:Juneteenth at BCPL: Opening Remarks with Chea K. Woolfolk
DESCRIPTION:Join us on Zoom or Facebook LIVE to celebrate Juneteenth! \nKick off our first annual Juneteenth at BCPL event with an introduction from our official Juneteenth at BCPL moderator\, Chea K. Woolfolk. \nABOUT OUR SPEAKER\nA Louisville native\, Chea K. Woolfolk is a multi-talented entrepreneur\, media personality\, and motivational speaker. She is the host of the Chea K. Woolfolk Show\, which airs weekly on Heart and Mogul Network Radio and hosts Kick Back Chats on LG TV Channel. She is also the acting CEO of Chea Chea Media Inc. and the creator and publisher of CKW-The Chea K. Woolfolk Magazine\, which averages over 15 million global downloads and views per issue. Through her various platforms\, Woolfolk strives to inspire\, empower\, and provide a voice for those who might otherwise go unheard. \nABOUT THE ZOOM MEETING\nYou can join the meeting from your browser using the following join link: https://us02web.zoom.us/j/89577481816. Please note\, if you experience issues with one browser\, you may have better results if you try a different browser for viewing (e.g.\, Chrome or Firefox). If you do not have internet access and would like to listen by phone or if you experience audio difficulties\, you may also use the details provided in the join invitation. \nView Join Invitation\n\nTopic: Juneteenth at BCPL Event\nTime: Jun 19\, 2021 11:30 AM Eastern Time (US and Canada)\n\nJoin Zoom Meeting\nhttps://us02web.zoom.us/j/89577481816\n\nMeeting ID: 895 7748 1816\nOne tap mobile\n+16465588656\,\,89577481816# US (New York)\n+13017158592\,\,89577481816# US (Washington DC)\n\nDial by your location\n        +1 646 558 8656 US (New York)\n        +1 301 715 8592 US (Washington DC)\n        +1 312 626 6799 US (Chicago)\n        +1 669 900 9128 US (San Jose)\n        +1 253 215 8782 US (Tacoma)\n        +1 346 248 7799 US (Houston)\nMeeting ID: 895 7748 1816\nFind your local number: https://us02web.zoom.us/u/kct6N91qAn\n \n\n\nEXPLORE MORE JUNETEETH AT BCPL EVENTS \n\nPlanning to attend? Let us know!\nRegistration is not required\, but we’d love to know which sessions interest you and how you learned about this event. This will help us to produce the best event possible and aid us in developing future Juneteenth events.
URL:https://bcplib.org/event/juneteenth-opening/
LOCATION:BCPL on Facebook
CATEGORIES:Adults,Teens
ORGANIZER;CN="Raychel":MAILTO:rbennet@bcplib.org
END:VEVENT
END:VCALENDAR