BEGIN:VCALENDAR
VERSION:2.0
PRODID:-//Bullitt County Public Library - ECPv5.16.4//NONSGML v1.0//EN
CALSCALE:GREGORIAN
METHOD:PUBLISH
X-WR-CALNAME:Bullitt County Public Library
X-ORIGINAL-URL:https://bcplib.org
X-WR-CALDESC:Events for Bullitt County Public Library
BEGIN:VTIMEZONE
TZID:America/Kentucky/Louisville
BEGIN:DAYLIGHT
TZOFFSETFROM:-0500
TZOFFSETTO:-0400
TZNAME:EDT
DTSTART:20210314T070000
END:DAYLIGHT
BEGIN:STANDARD
TZOFFSETFROM:-0400
TZOFFSETTO:-0500
TZNAME:EST
DTSTART:20211107T060000
END:STANDARD
END:VTIMEZONE
BEGIN:VEVENT
DTSTART;TZID=America/Kentucky/Louisville:20210619T163000
DTEND;TZID=America/Kentucky/Louisville:20210619T170000
DTSTAMP:20260423T071620
CREATED:20210526T195826Z
LAST-MODIFIED:20210526T202504Z
UID:93859-1624120200-1624122000@bcplib.org
SUMMARY:Juneteenth at BCPL: Jazz with Kiana Benhoff
DESCRIPTION:Join us on Facebook to celebrate Juneteenth! \nEnjoy an exclusive\, pre-recorded jazz performance from Kiana Benhoff and friends as they demonstrate how musicians communicate with each other while making music. \nABOUT OUR PERFORMER\nKiana Benhoff\, known to the stage as Kiana Del\, is a passionate vocalist\, songwriter\, and educator from Carrollton\, KY. She is the founder and lead vocalist of the jazz ensemble Kiana & the Sun Kings\, a contributor to various radio and outreach programs with 90.5 WUOL\, a Generation 3 Hadley Creative recipient\, and a Fund for the Arts NeXtGen board member. Through teaching and performing\, Kiana aims to nurture community and activism. \nEXPLORE MORE JUNETEETH AT BCPL EVENTS \n\nPlanning to attend? Let us know!\nRegistration is not required\, but we’d love to know which sessions interest you and how you learned about this event. This will help us to produce the best event possible and aid us in developing future Juneteenth events.
URL:https://bcplib.org/event/juneteenth-jazz/
LOCATION:BCPL on Facebook
CATEGORIES:Adults,Teens,Tweens,Kids,Family
ORGANIZER;CN="Raychel":MAILTO:rbennet@bcplib.org
END:VEVENT
END:VCALENDAR