BEGIN:VCALENDAR
VERSION:2.0
PRODID:-//Bullitt County Public Library - ECPv5.16.4//NONSGML v1.0//EN
CALSCALE:GREGORIAN
METHOD:PUBLISH
X-WR-CALNAME:Bullitt County Public Library
X-ORIGINAL-URL:https://bcplib.org
X-WR-CALDESC:Events for Bullitt County Public Library
BEGIN:VTIMEZONE
TZID:America/Kentucky/Louisville
BEGIN:DAYLIGHT
TZOFFSETFROM:-0500
TZOFFSETTO:-0400
TZNAME:EDT
DTSTART:20220313T070000
END:DAYLIGHT
BEGIN:STANDARD
TZOFFSETFROM:-0400
TZOFFSETTO:-0500
TZNAME:EST
DTSTART:20221106T060000
END:STANDARD
END:VTIMEZONE
BEGIN:VEVENT
DTSTART;TZID=America/Kentucky/Louisville:20220624T110000
DTEND;TZID=America/Kentucky/Louisville:20220624T120000
DTSTAMP:20260421T192124
CREATED:20220608T170216Z
LAST-MODIFIED:20220608T171753Z
UID:102756-1656068400-1656072000@bcplib.org
SUMMARY:Jump & Fly Storytime with Brittany J. Thurman
DESCRIPTION:Reach for your dreams… \nMove\, groove\, dance\, clap\, and sing as we step like Africa in the story Fly! Join children’s author Brittany J. Thurman for an interactive storytime that will get kids moving and imagining all the things they can do to bring their dreams to life. \nPlease note: This special storytime is offered in place of our regular Weekly Wonders: Ages 5–10 session. We’ll still offer the regular Weekly Wonders 5–10 session at 2:00 PM.\n \nFor ages 5–8. Just drop in!\nSpace will be available on a first-come\, first-served basis. Questions? Contact Ms. Jillian at 543-7675 ext. 2557 or e-mail jillian@bcplib.org. \n  \n\n\nA MESSAGE FROM BRITTANY J. THURMAN \nHi! \nI have always had an affinity for stories told by my grandmother. Those same stories hold space in my writing today. My love of writing comes from my love of reading. As a kid\, I could not get enough of going to bookstores and libraries. \nI am a former children’s specialist\, and I am dedicated to ensuring children’s literature truthfully reflects the world in which we live. I hold an MFA from Carnegie Mellon University\, where I studied Dramatic Writing. I hold a BA from Kingston University\, London\, England\, where I studied theater. \nI’m not sure how many books I’ve read as a children’s specialist\, but I estimate hundreds of stories to thousands of kids across the City of Bridges. Currently\, I reside in my hometown of Louisville\, KY. You may find me biking along the waterfront\, enjoying a musical or play\, hanging out with my family\, grilling in the backyard or snuggled up with a good book. \n 
URL:https://bcplib.org/event/jump-fly-lj/
LOCATION:Lebanon Junction Branch\, 11382 S. Preston Highway\, Lebanon Junction\, KY\, 40150\, United States
CATEGORIES:Kids
ORGANIZER;CN="Jillian":MAILTO:jillian@bcplib.org
GEO:37.8417678;-85.7287508
X-APPLE-STRUCTURED-LOCATION;VALUE=URI;X-ADDRESS=Lebanon Junction Branch 11382 S. Preston Highway Lebanon Junction KY 40150 United States;X-APPLE-RADIUS=500;X-TITLE=11382 S. Preston Highway:geo:-85.7287508,37.8417678
END:VEVENT
END:VCALENDAR