BEGIN:VCALENDAR
VERSION:2.0
PRODID:-//Bullitt County Public Library - ECPv5.16.4//NONSGML v1.0//EN
CALSCALE:GREGORIAN
METHOD:PUBLISH
X-WR-CALNAME:Bullitt County Public Library
X-ORIGINAL-URL:https://bcplib.org
X-WR-CALDESC:Events for Bullitt County Public Library
BEGIN:VTIMEZONE
TZID:America/Kentucky/Louisville
BEGIN:DAYLIGHT
TZOFFSETFROM:-0500
TZOFFSETTO:-0400
TZNAME:EDT
DTSTART:20190310T070000
END:DAYLIGHT
BEGIN:STANDARD
TZOFFSETFROM:-0400
TZOFFSETTO:-0500
TZNAME:EST
DTSTART:20191103T060000
END:STANDARD
END:VTIMEZONE
BEGIN:VEVENT
DTSTART;TZID=America/Kentucky/Louisville:20190307T180000
DTEND;TZID=America/Kentucky/Louisville:20190307T190000
DTSTAMP:20260422T063757
CREATED:20190205T220853Z
LAST-MODIFIED:20190205T221229Z
UID:47017-1551981600-1551985200@bcplib.org
SUMMARY:It's Easy Being Green
DESCRIPTION:Get your Irish on! \nJoin us to learn about St. Patrick’s Day with fun crafts and tasty green snacks and drinks—plus cheese it up in our photo booth. Don’t forget to wear green! \nFor all ages. Just drop in!\nSpace will be available on a first-come\, first-served basis. Questions? Call Angel at 543-7675 ext. 2556 or e-mail angel@bcplib.org.
URL:https://bcplib.org/event/its-easy-being-green-2019/
LOCATION:Mt. Washington Branch\, 214 N. Bardstown Road\, Mt. Washington\, KY\, 40047\, United States
CATEGORIES:Tweens,Kids,Family
ORGANIZER;CN="Angel":MAILTO:angel@bcplib.org
GEO:38.0492119;-85.5430434
X-APPLE-STRUCTURED-LOCATION;VALUE=URI;X-ADDRESS=Mt. Washington Branch 214 N. Bardstown Road Mt. Washington KY 40047 United States;X-APPLE-RADIUS=500;X-TITLE=214 N. Bardstown Road:geo:-85.5430434,38.0492119
END:VEVENT
END:VCALENDAR