BEGIN:VCALENDAR
VERSION:2.0
PRODID:-//Bullitt County Public Library - ECPv5.16.4//NONSGML v1.0//EN
CALSCALE:GREGORIAN
METHOD:PUBLISH
X-WR-CALNAME:Bullitt County Public Library
X-ORIGINAL-URL:https://bcplib.org
X-WR-CALDESC:Events for Bullitt County Public Library
BEGIN:VTIMEZONE
TZID:America/Kentucky/Louisville
BEGIN:DAYLIGHT
TZOFFSETFROM:-0500
TZOFFSETTO:-0400
TZNAME:EDT
DTSTART:20180311T070000
END:DAYLIGHT
BEGIN:STANDARD
TZOFFSETFROM:-0400
TZOFFSETTO:-0500
TZNAME:EST
DTSTART:20181104T060000
END:STANDARD
END:VTIMEZONE
BEGIN:VEVENT
DTSTART;TZID=America/Kentucky/Louisville:20180215T170000
DTEND;TZID=America/Kentucky/Louisville:20180215T200000
DTSTAMP:20260422T150115
CREATED:20171222T194357Z
LAST-MODIFIED:20171222T195407Z
UID:23091-1518714000-1518724800@bcplib.org
SUMMARY:Introduction to Weaving
DESCRIPTION:Calling all teens and adults with an interest in fiber crafts or exploring a new hobby! \nJoin local artisan Kim Upton to create a homemade loom\, then begin a weaving project that you will be able to complete at home. \nAttendees are encouraged to bring drinks and snacks! \nFor ages 13 and up. Registration is required as space is limited.
URL:https://bcplib.org/event/introduction-weaving-lj/
LOCATION:Lebanon Junction Branch\, 11382 S. Preston Highway\, Lebanon Junction\, KY\, 40150\, United States
CATEGORIES:Adults,Teens
ORGANIZER;CN="Gayle":MAILTO:gayle@bcplib.org
GEO:37.8417678;-85.7287508
X-APPLE-STRUCTURED-LOCATION;VALUE=URI;X-ADDRESS=Lebanon Junction Branch 11382 S. Preston Highway Lebanon Junction KY 40150 United States;X-APPLE-RADIUS=500;X-TITLE=11382 S. Preston Highway:geo:-85.7287508,37.8417678
END:VEVENT
END:VCALENDAR