BEGIN:VCALENDAR
VERSION:2.0
PRODID:-//Bullitt County Public Library - ECPv5.16.4//NONSGML v1.0//EN
CALSCALE:GREGORIAN
METHOD:PUBLISH
X-WR-CALNAME:Bullitt County Public Library
X-ORIGINAL-URL:https://bcplib.org
X-WR-CALDESC:Events for Bullitt County Public Library
BEGIN:VTIMEZONE
TZID:America/Kentucky/Louisville
BEGIN:DAYLIGHT
TZOFFSETFROM:-0500
TZOFFSETTO:-0400
TZNAME:EDT
DTSTART:20200308T070000
END:DAYLIGHT
BEGIN:STANDARD
TZOFFSETFROM:-0400
TZOFFSETTO:-0500
TZNAME:EST
DTSTART:20201101T060000
END:STANDARD
END:VTIMEZONE
BEGIN:VEVENT
DTSTART;TZID=America/Kentucky/Louisville:20200207T140000
DTEND;TZID=America/Kentucky/Louisville:20200207T153000
DTSTAMP:20260422T044705
CREATED:20191217T175233Z
LAST-MODIFIED:20191217T175233Z
UID:71066-1581084000-1581089400@bcplib.org
SUMMARY:I Heart Origami!
DESCRIPTION:Give your heart away this Valentine’s Day… \nCome create a special origami heart that you can enjoy making any time of year! Using the materials we provide\, follow along and discover how to use the masterful art of origami to create a personalized heart for a special someone in your life. \nPsst… You can even include a special message or a tiny surprise at the center of your origami heart!  \nFor ages 10 and up. Just drop in!\nSeating and materials will be available on a first-come\, first-served basis. Questions? E-mail gayle@bcplib.org. \n 
URL:https://bcplib.org/event/i-heart-origami-lj/
LOCATION:Lebanon Junction Branch\, 11382 S. Preston Highway\, Lebanon Junction\, KY\, 40150\, United States
CATEGORIES:Adults,Teens,Tweens
ORGANIZER;CN="Gayle":MAILTO:gayle@bcplib.org
GEO:37.8417678;-85.7287508
X-APPLE-STRUCTURED-LOCATION;VALUE=URI;X-ADDRESS=Lebanon Junction Branch 11382 S. Preston Highway Lebanon Junction KY 40150 United States;X-APPLE-RADIUS=500;X-TITLE=11382 S. Preston Highway:geo:-85.7287508,37.8417678
END:VEVENT
END:VCALENDAR