BEGIN:VCALENDAR
VERSION:2.0
PRODID:-//Bullitt County Public Library - ECPv5.16.4//NONSGML v1.0//EN
CALSCALE:GREGORIAN
METHOD:PUBLISH
X-WR-CALNAME:Bullitt County Public Library
X-ORIGINAL-URL:https://bcplib.org
X-WR-CALDESC:Events for Bullitt County Public Library
BEGIN:VTIMEZONE
TZID:America/Kentucky/Louisville
BEGIN:DAYLIGHT
TZOFFSETFROM:-0500
TZOFFSETTO:-0400
TZNAME:EDT
DTSTART:20210314T070000
END:DAYLIGHT
BEGIN:STANDARD
TZOFFSETFROM:-0400
TZOFFSETTO:-0500
TZNAME:EST
DTSTART:20211107T060000
END:STANDARD
END:VTIMEZONE
BEGIN:VEVENT
DTSTART;TZID=America/Kentucky/Louisville:20210927T130000
DTEND;TZID=America/Kentucky/Louisville:20210927T150000
DTSTAMP:20260423T032635
CREATED:20210914T150259Z
LAST-MODIFIED:20210914T150841Z
UID:97078-1632747600-1632754800@bcplib.org
SUMMARY:Homeschool Connect
DESCRIPTION:Meet on the 4th Monday of every month!\nA fun\, casual hangout for homeschooling parents and their kids! \nConnect with other members of the homeschool community! We’ll have activities at each session for different ages and interests\, but the main purpose of this program is to give you a fun and casual hangout to share experiences and get to know other homeschooling families. Parents and families just curious about homeschooling are welcome to attend\, too! \nEach session will feature: \n\nA designated Parent Area for discussion. Or just take a time out with your choice of coffee or water.\nAn area for babies and younger children to play.\nA Technology Space for exploring popular gadgets including our 3D printers\, VR headsets\, and Cubelets robotics kits.\nPlus\, 3 additional stations with activities designed to support our monthly topic.\n\nFor all ages. Just drop in!\nSeating will be available on a first-come\, first-served basis. Questions? E-mail angel@bcplib.org
URL:https://bcplib.org/event/homeschool/2021-09-27/
LOCATION:Mt. Washington Branch\, 214 N. Bardstown Road\, Mt. Washington\, KY\, 40047\, United States
CATEGORIES:Teens,Tweens,Kids,Family
ORGANIZER;CN="Angel":MAILTO:angel@bcplib.org
GEO:38.0492119;-85.5430434
X-APPLE-STRUCTURED-LOCATION;VALUE=URI;X-ADDRESS=Mt. Washington Branch 214 N. Bardstown Road Mt. Washington KY 40047 United States;X-APPLE-RADIUS=500;X-TITLE=214 N. Bardstown Road:geo:-85.5430434,38.0492119
END:VEVENT
END:VCALENDAR