BEGIN:VCALENDAR
VERSION:2.0
PRODID:-//Bullitt County Public Library - ECPv5.16.4//NONSGML v1.0//EN
CALSCALE:GREGORIAN
METHOD:PUBLISH
X-WR-CALNAME:Bullitt County Public Library
X-ORIGINAL-URL:https://bcplib.org
X-WR-CALDESC:Events for Bullitt County Public Library
BEGIN:VTIMEZONE
TZID:America/Kentucky/Louisville
BEGIN:DAYLIGHT
TZOFFSETFROM:-0500
TZOFFSETTO:-0400
TZNAME:EDT
DTSTART:20190310T070000
END:DAYLIGHT
BEGIN:STANDARD
TZOFFSETFROM:-0400
TZOFFSETTO:-0500
TZNAME:EST
DTSTART:20191103T060000
END:STANDARD
END:VTIMEZONE
BEGIN:VEVENT
DTSTART;TZID=America/Kentucky/Louisville:20191015T130000
DTEND;TZID=America/Kentucky/Louisville:20191015T150000
DTSTAMP:20260421T132043
CREATED:20190712T183638Z
LAST-MODIFIED:20190917T161811Z
UID:60949-1571144400-1571151600@bcplib.org
SUMMARY:Homeschool Libratory
DESCRIPTION:Full STEAM ahead to the Homeschool Libratory… \nExplore hands-on STEAM activities and enjoy a fun\, themed book club with your fellow homeschoolers each month. At each Libratory meetup\, we’ll do something new and exciting and you’ll get to share your latest book discoveries with all your new friends. \nFor children of all ages. Just drop in!\nSeating will be available on a first-come\, first-served basis. Questions? E-mail jillian@bcplib.org. \n\nMonthly STEAM Activities:\nAUGUST: Family Meet and Greet \nJoin us for a fun get-to-know-you session! We’ll have an activity designed to help you reflect on and share all the awesome adventures you had over the summer. Plus\, enjoy modeling with clay to create your own masterpiece. \nBookbag Buzz: Remember to choose a book about the fall season for our September meetup before you leave!  \nSEPTEMBER: Fall Frenzy\nCreate delicious goodies by building and launching your own candy-corn catapult and “Pumpkineering” with gummy pumpkins and toothpicks.\n \nBookbag Buzz: Bring 3 items that relate to what you read in your fall-season book selection. We can’t wait to discuss!\nPsst… Before you leave\, give some thought to your Halloween book selection for next month! \nOCTOBER: Halloween Fun\nThis month\, erupt your own Pumpkin-Cano and discover the magic of fall leaf rubbings! \nBookbag Buzz: Bring 3 items that relate to what you read in your Halloween book selection. Then\, get ready for November’s Thanksgiving-themed Book Bag Buzz!
URL:https://bcplib.org/event/homeschool-libratory-2019-10-15/
LOCATION:Lebanon Junction Branch\, 11382 S. Preston Highway\, Lebanon Junction\, KY\, 40150\, United States
CATEGORIES:Tweens,Kids
ORGANIZER;CN="Jillian":MAILTO:jillian@bcplib.org
GEO:37.8417678;-85.7287508
X-APPLE-STRUCTURED-LOCATION;VALUE=URI;X-ADDRESS=Lebanon Junction Branch 11382 S. Preston Highway Lebanon Junction KY 40150 United States;X-APPLE-RADIUS=500;X-TITLE=11382 S. Preston Highway:geo:-85.7287508,37.8417678
END:VEVENT
END:VCALENDAR