BEGIN:VCALENDAR
VERSION:2.0
PRODID:-//Bullitt County Public Library - ECPv5.16.4//NONSGML v1.0//EN
CALSCALE:GREGORIAN
METHOD:PUBLISH
X-WR-CALNAME:Bullitt County Public Library
X-ORIGINAL-URL:https://bcplib.org
X-WR-CALDESC:Events for Bullitt County Public Library
BEGIN:VTIMEZONE
TZID:America/Kentucky/Louisville
BEGIN:DAYLIGHT
TZOFFSETFROM:-0500
TZOFFSETTO:-0400
TZNAME:EDT
DTSTART:20190310T070000
END:DAYLIGHT
BEGIN:STANDARD
TZOFFSETFROM:-0400
TZOFFSETTO:-0500
TZNAME:EST
DTSTART:20191103T060000
END:STANDARD
END:VTIMEZONE
BEGIN:VEVENT
DTSTART;TZID=America/Kentucky/Louisville:20190108T130000
DTEND;TZID=America/Kentucky/Louisville:20190108T150000
DTSTAMP:20260422T095331
CREATED:20171111T200327Z
LAST-MODIFIED:20190528T204004Z
UID:20484-1546952400-1546959600@bcplib.org
SUMMARY:KIPDA Healthcare Assistance
DESCRIPTION:Need help applying for health coverage? BCPL is partnering with the KIPDA Assister Program to bring you the assistance you need! A local representative will be available to help you navigate Medicaid\, the Kentucky Children’s Health Insurance Program\, and the Affordable Care Act’s Health Insurance Marketplace. \nPlease check our events calendar for other available dates at all BCPL locations. If the schedule does not work for you\, please contact Assister Natalie Faulkner for alternate possibilities. \nNatalie Faulkner | phone: 502-266-5571 | e-mail: natalie.faulkner@kipda.org \nFor additional help\, visit kynect.ky.gov\, benefind.ky.gov\, and healthcare.gov. You may also call the Health Insurance Marketplace national helpline at 1-800-318-2596\, 24 hours a day\, 7 days a week. The Kentucky Health Benefit Exchange customer service helpline can be reached at 1-855-459-6328.
URL:https://bcplib.org/event/hl/2019-01-08/
LOCATION:Hillview Branch\, 155 Terry Boulevard\, Hillview\, KY\, 40229\, United States
CATEGORIES:Adults
ORGANIZER;CN="Patrick":MAILTO:patrick@bcplib.org
GEO:38.077247;-85.688966
X-APPLE-STRUCTURED-LOCATION;VALUE=URI;X-ADDRESS=Hillview Branch 155 Terry Boulevard Hillview KY 40229 United States;X-APPLE-RADIUS=500;X-TITLE=155 Terry Boulevard:geo:-85.688966,38.077247
END:VEVENT
END:VCALENDAR