BEGIN:VCALENDAR
VERSION:2.0
PRODID:-//Bullitt County Public Library - ECPv5.16.4//NONSGML v1.0//EN
CALSCALE:GREGORIAN
METHOD:PUBLISH
X-WR-CALNAME:Bullitt County Public Library
X-ORIGINAL-URL:https://bcplib.org
X-WR-CALDESC:Events for Bullitt County Public Library
BEGIN:VTIMEZONE
TZID:America/Kentucky/Louisville
BEGIN:DAYLIGHT
TZOFFSETFROM:-0500
TZOFFSETTO:-0400
TZNAME:EDT
DTSTART:20210314T070000
END:DAYLIGHT
BEGIN:STANDARD
TZOFFSETFROM:-0400
TZOFFSETTO:-0500
TZNAME:EST
DTSTART:20211107T060000
END:STANDARD
END:VTIMEZONE
BEGIN:VEVENT
DTSTART;TZID=America/Kentucky/Louisville:20210606T130000
DTEND;TZID=America/Kentucky/Louisville:20210606T150000
DTSTAMP:20260423T113652
CREATED:20210525T130716Z
LAST-MODIFIED:20210525T131357Z
UID:93634-1622984400-1622991600@bcplib.org
SUMMARY:Hillview Mystery Walk
DESCRIPTION:Zoinks!! We have mysteries to solve! \nJoin us for a fun\, Scooby-Doo inspired experience. Enjoy a walk around the outdoor Pavilion path while you gather clues\, complete fun activities\, and solve the mystery to earn a detective bag to help you on your next adventure. \nTwo Mystery Walks are planned: \n\nSunday\, June 6th  1:00–3:00 PM\nSunday\, June 27th  1:00–3:00 PM\n\nPsst… This event will be canceled in the event of rain.\n \nFor children of all ages.\nJust drop in! Space will be available on a first-come\, first-served basis. Questions? Call Brandy at 543-7675 ext. 2555 or e-mail brandy@bcplib.org.
URL:https://bcplib.org/event/hillview-mystery-walk/2021-06-06/
LOCATION:Hillview Branch\, 155 Terry Boulevard\, Hillview\, KY\, 40229\, United States
CATEGORIES:Tweens,Kids
GEO:38.077247;-85.688966
X-APPLE-STRUCTURED-LOCATION;VALUE=URI;X-ADDRESS=Hillview Branch 155 Terry Boulevard Hillview KY 40229 United States;X-APPLE-RADIUS=500;X-TITLE=155 Terry Boulevard:geo:-85.688966,38.077247
END:VEVENT
END:VCALENDAR