BEGIN:VCALENDAR
VERSION:2.0
PRODID:-//Bullitt County Public Library - ECPv5.16.4//NONSGML v1.0//EN
CALSCALE:GREGORIAN
METHOD:PUBLISH
X-WR-CALNAME:Bullitt County Public Library
X-ORIGINAL-URL:https://bcplib.org
X-WR-CALDESC:Events for Bullitt County Public Library
BEGIN:VTIMEZONE
TZID:America/Kentucky/Louisville
BEGIN:DAYLIGHT
TZOFFSETFROM:-0500
TZOFFSETTO:-0400
TZNAME:EDT
DTSTART:20180311T070000
END:DAYLIGHT
BEGIN:STANDARD
TZOFFSETFROM:-0400
TZOFFSETTO:-0500
TZNAME:EST
DTSTART:20181104T060000
END:STANDARD
END:VTIMEZONE
BEGIN:VEVENT
DTSTART;TZID=America/Kentucky/Louisville:20181116T130000
DTEND;TZID=America/Kentucky/Louisville:20181116T170000
DTSTAMP:20260422T054922
CREATED:20181011T141434Z
LAST-MODIFIED:20181114T233852Z
UID:39099-1542373200-1542387600@bcplib.org
SUMMARY:KIPDA Open Enrollment Health Insurance Event
DESCRIPTION:No health coverage? Get the help you need applying for health insurance—plus gather more valuable health information from other community agencies and businesses! \nTo make sure you don’t miss your chance to get 2019 insurance from the Health Insurance Marketplace\, Kentuckiana Regional Planning & Development Agency (KIPDA) will be onsite at Ridgway Memorial for a special community health event. KIPDA assisters will be available to help you navigate your options and understand if you qualify for income-based health insurance plans with premium tax credits or reduced deductibles and co-pays. You might also qualify for Medicaid or the Children’s Health Insurance Program (CHIP)\, which provide free or low-cost coverage to millions of people and families with limited income\, disabilities\, and some other situations. \nAfter walking you through the options available for your situation and income status\, the trained Assisters will be ready to help you enroll right there! \n\nPLAN TO SIGN UP FOR INSURANCE AT THE EVENT? \n\nYou will need to bring an official ID and relevant information for each household member with you. This includes Social Security numbers\, proof of income (e.g.\, check stubs or W-2 forms)\, and any current insurance cards.\nFor complete details\, see the printable checklist at Healthcare.gov.\n\nOPEN ENROLLMENT PERIODS: \n\nThe 2019 Medicare enrollment period for ages 65 and over runs from Monday\, October 15th through Friday\, December 7th.\nThe 2019 enrollment period for Kentucky Medicaid is Thursday\, November 1st through Friday\, November 30th.\nThe 2019 open enrollment period for Healthcare.gov runs from Thursday\, November 1st through Saturday\, December 15th. If you don’t act by December 15\, 2018\, you can’t get 2019 coverage unless you qualify for a Special Enrollment Period. Plans sold during open enrollment start January 1\, 2019.\n\n\n  \nIn addition to onsite healthcare enrollment with KIPDA\, the following organizations will be available to answer questions and provide information. Several giveaways are also planned. \nPARTICPATING ORGANIZATIONS INCLUDE: \n\n\n\nAetna\nAnthem\nBullitt County Health Department (1:00-2:15 PM only)\nBullitt County Public Library\nCaresource\nPassport\nSouthern Charm Yoga (participation canceled)\nWellcare
URL:https://bcplib.org/event/health-insurance/
LOCATION:Ridgway Memorial Library\, 127 N. Walnut Street\, Shepherdsville\, KY\, 40165\, United States
GEO:38.001133520394;-85.706045160467
X-APPLE-STRUCTURED-LOCATION;VALUE=URI;X-ADDRESS=Ridgway Memorial Library 127 N. Walnut Street Shepherdsville KY 40165 United States;X-APPLE-RADIUS=500;X-TITLE=127 N. Walnut Street:geo:-85.706045160467,38.001133520394
END:VEVENT
END:VCALENDAR