BEGIN:VCALENDAR
VERSION:2.0
PRODID:-//Bullitt County Public Library - ECPv5.16.4//NONSGML v1.0//EN
CALSCALE:GREGORIAN
METHOD:PUBLISH
X-WR-CALNAME:Bullitt County Public Library
X-ORIGINAL-URL:https://bcplib.org
X-WR-CALDESC:Events for Bullitt County Public Library
BEGIN:VTIMEZONE
TZID:America/Kentucky/Louisville
BEGIN:DAYLIGHT
TZOFFSETFROM:-0500
TZOFFSETTO:-0400
TZNAME:EDT
DTSTART:20190310T070000
END:DAYLIGHT
BEGIN:STANDARD
TZOFFSETFROM:-0400
TZOFFSETTO:-0500
TZNAME:EST
DTSTART:20191103T060000
END:STANDARD
END:VTIMEZONE
BEGIN:VEVENT
DTSTART;TZID=America/Kentucky/Louisville:20190311T100000
DTEND;TZID=America/Kentucky/Louisville:20190311T120000
DTSTAMP:20260422T045258
CREATED:20190206T174500Z
LAST-MODIFIED:20190206T175734Z
UID:47086-1552298400-1552305600@bcplib.org
SUMMARY:Happy Birthday\, Caterpillar!
DESCRIPTION:Your favorite caterpillar is turning 50! \nCelebrate the 50th anniversary of Eric Carle’s beloved children’s classic\, The Very Hungry Caterpillar. We will have special readings of the story and lots of hands-on activities\, including a special LEGO project\, make-and-take crafts\, and a photo booth loaded with fun props! Plus—if you are hungry like the caterpillar—you can enjoy some tasty\, caterpillar-approved snacks. \nSchedule of Events:\n10:00 AM–12:00 PM          Activity Stations and Snacks\n10:00 AM                               The Very Hungry Caterpillar Reading #1\n11:00 AM                               The Very Hungry Caterpillar Reading #2 \nFor children of all ages.\nJust drop in! Space and materials will be available on a first-come\, first-served basis. Questions? Call Ms. Jillian at 543-7675 ext. 2557 or e-mail jillian@bcplib.org.
URL:https://bcplib.org/event/happy-birthday-caterpillar-rm/
LOCATION:Ridgway Memorial Library\, 127 N. Walnut Street\, Shepherdsville\, KY\, 40165\, United States
CATEGORIES:Tweens,Kids
ORGANIZER;CN="Jillian":MAILTO:jillian@bcplib.org
GEO:38.001133520394;-85.706045160467
X-APPLE-STRUCTURED-LOCATION;VALUE=URI;X-ADDRESS=Ridgway Memorial Library 127 N. Walnut Street Shepherdsville KY 40165 United States;X-APPLE-RADIUS=500;X-TITLE=127 N. Walnut Street:geo:-85.706045160467,38.001133520394
END:VEVENT
END:VCALENDAR