BEGIN:VCALENDAR
VERSION:2.0
PRODID:-//Bullitt County Public Library - ECPv5.16.4//NONSGML v1.0//EN
CALSCALE:GREGORIAN
METHOD:PUBLISH
X-WR-CALNAME:Bullitt County Public Library
X-ORIGINAL-URL:https://bcplib.org
X-WR-CALDESC:Events for Bullitt County Public Library
BEGIN:VTIMEZONE
TZID:America/Kentucky/Louisville
BEGIN:DAYLIGHT
TZOFFSETFROM:-0500
TZOFFSETTO:-0400
TZNAME:EDT
DTSTART:20220313T070000
END:DAYLIGHT
BEGIN:STANDARD
TZOFFSETFROM:-0400
TZOFFSETTO:-0500
TZNAME:EST
DTSTART:20221106T060000
END:STANDARD
END:VTIMEZONE
BEGIN:VEVENT
DTSTART;TZID=America/Kentucky/Louisville:20220310T160000
DTEND;TZID=America/Kentucky/Louisville:20220310T180000
DTSTAMP:20260421T211951
CREATED:20220304T212410Z
LAST-MODIFIED:20220304T212634Z
UID:101103-1646928000-1646935200@bcplib.org
SUMMARY:Handmade Happiness
DESCRIPTION:Crafting makes everything better… \nCreate whimsical\, lovely little projects that will give you joy for years to come. On the second Thursday of each month\, we’ll craft something unique and fabulous in two hours or less! \nUpcoming projects include: \n\nMarch 10th- Etched Spice Jars\nApril 14- Pinecone Flowers\nMay 12th- Spa Sachet & Air Freshener\nJune 9th- Personalized Grill Apron\nJuly 14th- Summer Welcome Sign (Flip-flops aweigh!)\nAugust 11th- Custom Coasters\nSeptember 8th- Ghost Yard Décor\nOctober 13th- Gourd Candle & Stovetop Potpourri\nNovember 10th- Rustic Tree Painting\nDecember 9th- Metal Stamped Jewelry\n\nFor ages 13 and up. Just drop in!\nSeating and supplies will be available on a first-come\, first-served basis. Questions? Contact Kirsten at 543-7675 ext. 2401 or e-mail nilassistant@bcplib.org.
URL:https://bcplib.org/event/handmade-happiness/2022-03-10/
LOCATION:Nichols Branch\, 10729 Highway 44 West\, West Point\, KY\, 40177\, United States
CATEGORIES:Adults,Teens
GEO:38.0142396;-85.8852196
X-APPLE-STRUCTURED-LOCATION;VALUE=URI;X-ADDRESS=Nichols Branch 10729 Highway 44 West West Point KY 40177 United States;X-APPLE-RADIUS=500;X-TITLE=10729 Highway 44 West:geo:-85.8852196,38.0142396
END:VEVENT
END:VCALENDAR